BEGIN:VCALENDAR
PRODID:-//eluceo/ical//2.0/EN
VERSION:2.0
CALSCALE:GREGORIAN
BEGIN:VEVENT
UID:7bb924e3c67e604ec391bd89fe6f7a86
DTSTAMP:20260423T035944Z
SUMMARY:[Herren LK3] CVJM Renningen  - EK Wolfschlugen 
URL:https://www.eichenkreuzliga.de/fussball/game/id/15982
DTSTART:20230423T170000
DTEND:20230423T180000
LOCATION:\,  
END:VEVENT
BEGIN:VEVENT
UID:1952c7ab36e2f4465abc8f5201a1436d
DTSTAMP:20260423T035944Z
SUMMARY:[Herren LK3] CVJM Heidenheim  - CVJM Bernloch 
URL:https://www.eichenkreuzliga.de/fussball/game/id/15983
DTSTART:20230423T150000
DTEND:20230423T160000
LOCATION:\,  
END:VEVENT
END:VCALENDAR
