BEGIN:VCALENDAR
PRODID:-//eluceo/ical//2.0/EN
VERSION:2.0
CALSCALE:GREGORIAN
BEGIN:VEVENT
UID:f2f71f246e815276d0bec0c23b2f200d
DTSTAMP:20260423T052838Z
SUMMARY:[Herren LK3] CVJM Heidenheim  - EK Dettingen/Teck 
URL:https://www.eichenkreuzliga.de/fussball/game/id/15986
DTSTART:20230617T150000
DTEND:20230617T160000
LOCATION:\,  
END:VEVENT
BEGIN:VEVENT
UID:e2139821a3c058a379e8ac5b3d4b5349
DTSTAMP:20260423T052838Z
SUMMARY:[Herren LK3] CVJM Renningen  - CVJM Bernloch 
URL:https://www.eichenkreuzliga.de/fussball/game/id/15987
DTSTART:20230702T160000
DTEND:20230702T170000
LOCATION:\,  
END:VEVENT
END:VCALENDAR
