BEGIN:VCALENDAR
PRODID:-//eluceo/ical//2.0/EN
VERSION:2.0
CALSCALE:GREGORIAN
BEGIN:VEVENT
UID:7312e1b2e3171ffaca903d22d5106618
DTSTAMP:20260423T040021Z
SUMMARY:[Herren LK3] CVJM Heidenheim  - CVJM Renningen 
URL:https://www.eichenkreuzliga.de/fussball/game/id/15988
DTSTART:20230416T160000
DTEND:20230416T170000
LOCATION:\,  
END:VEVENT
BEGIN:VEVENT
UID:1a7c0a9e5fd6cf79e34c8501e0b4e98e
DTSTAMP:20260423T040021Z
SUMMARY:[Herren LK3] EK Wolfschlugen  - EK Dettingen/Teck 
URL:https://www.eichenkreuzliga.de/fussball/game/id/15989
DTSTART:20230514T150000
DTEND:20230514T160000
LOCATION:\,  
END:VEVENT
END:VCALENDAR
