BEGIN:VCALENDAR
PRODID:-//eluceo/ical//2.0/EN
VERSION:2.0
CALSCALE:GREGORIAN
BEGIN:VEVENT
UID:da86c41e766227882d5f0c125d8d646b
DTSTAMP:20260420T230438Z
SUMMARY:[männliche D-Jugend Runde] CVJM Enzweihingen  - CVJM Kusterdingen 
 e.V. 
URL:https://www.eichenkreuzliga.de/handball/game/id/16117
DTSTART:20231015T134500
DTEND:20231015T144500
LOCATION:Zeppelinhalle\, 70734 Fellbach
END:VEVENT
BEGIN:VEVENT
UID:9aa80bbaba39ce81cfcb6d244e9e2aab
DTSTAMP:20260420T230438Z
SUMMARY:[männliche D-Jugend Runde] CVJM Enzweihingen  - CVJM Plochingen 
URL:https://www.eichenkreuzliga.de/handball/game/id/16118
DTSTART:20231015T144500
DTEND:20231015T154500
LOCATION:Zeppelinhalle\, 70734 Fellbach
END:VEVENT
BEGIN:VEVENT
UID:d0b2eca1d6926f8d4040c3f6f996f6a2
DTSTAMP:20260420T230438Z
SUMMARY:[männliche D-Jugend Runde] CVJM Fellbach  - CVJM Kusterdingen e.V.
  
URL:https://www.eichenkreuzliga.de/handball/game/id/16119
DTSTART:20231015T153000
DTEND:20231015T163000
LOCATION:Zeppelinhalle\, 70734 Fellbach
END:VEVENT
BEGIN:VEVENT
UID:d703bba296abe402ba5f83b72ebe63ea
DTSTAMP:20260420T230438Z
SUMMARY:[männliche D-Jugend Runde] CVJM Fellbach  - CVJM Plochingen 
URL:https://www.eichenkreuzliga.de/handball/game/id/16120
DTSTART:20231015T130000
DTEND:20231015T140000
LOCATION:Zeppelinhalle\, 70734 Fellbach
END:VEVENT
BEGIN:VEVENT
UID:26d2b3dce46989fc364437d69b319198
DTSTAMP:20260420T230438Z
SUMMARY:[ ]   -  
URL:https://www.eichenkreuzliga.de/handball/game/id/16287
DTSTART:20231015T143000
DTEND:20231015T153000
LOCATION:Zeppelinhalle\, 70734 Fellbach
END:VEVENT
BEGIN:VEVENT
UID:0d3109a49a300dbc8de6365c826ed0bd
DTSTAMP:20260420T230438Z
SUMMARY:[Männer LK3] CVJM Fellbach  - CVJM SG Mössingen/Belsen 1b
URL:https://www.eichenkreuzliga.de/handball/game/id/16886
DTSTART:20231015T183000
DTEND:20231015T193000
LOCATION:Zeppelinhalle\, 70734 Fellbach
END:VEVENT
BEGIN:VEVENT
UID:7c728ae1050ee27175d367875cde9f83
DTSTAMP:20260420T230438Z
SUMMARY:[Männer LK4] CVJM Fellbach 1b - CVJM Möglingen 
URL:https://www.eichenkreuzliga.de/handball/game/id/16920
DTSTART:20231015T164500
DTEND:20231015T174500
LOCATION:Zeppelinhalle\, 70734 Fellbach
END:VEVENT
END:VCALENDAR
