BEGIN:VCALENDAR
PRODID:-//eluceo/ical//2.0/EN
VERSION:2.0
CALSCALE:GREGORIAN
BEGIN:VEVENT
UID:70b11827c198acec6d0fa097b36e3aeb
DTSTAMP:20260420T230412Z
SUMMARY:[Männer LK2] EJW Münchingen  - EK Köngen 1b
URL:https://www.eichenkreuzliga.de/handball/game/id/16846
DTSTART:20231022T174500
DTEND:20231022T184500
LOCATION:Sporthalle Münchingen\, 70825 Korntal-Münchingen
END:VEVENT
BEGIN:VEVENT
UID:3e69e112acd70c84557347d5a2f918ca
DTSTAMP:20260420T230412Z
SUMMARY:[männliche C-Jugend Runde] EJW Münchingen  - CVJM HB Dußlingen-G
 omaringen 1
URL:https://www.eichenkreuzliga.de/handball/game/id/17101
DTSTART:20231022T143000
DTEND:20231022T153000
LOCATION:Sporthalle Münchingen\, 70825 Korntal-Münchingen
END:VEVENT
BEGIN:VEVENT
UID:f5dfd40cf72bb6f59f804edcfd4aab87
DTSTAMP:20260420T230412Z
SUMMARY:[weibliche B-Jugend Runde] EJW Münchingen AK als wB2 - CVJM Kirche
 ntellinsfurt 
URL:https://www.eichenkreuzliga.de/handball/game/id/17130
DTSTART:20231022T160000
DTEND:20231022T170000
LOCATION:Sporthalle Münchingen\, 70825 Korntal-Münchingen
END:VEVENT
BEGIN:VEVENT
UID:de1e83be51f9bda1a76c7fb6870c4d44
DTSTAMP:20260420T230412Z
SUMMARY:[weibliche B-Jugend Runde] EJW Münchingen  - CVJM Möglingen 
URL:https://www.eichenkreuzliga.de/handball/game/id/17131
DTSTART:20231022T130000
DTEND:20231022T140000
LOCATION:Sporthalle Münchingen\, 70825 Korntal-Münchingen
END:VEVENT
END:VCALENDAR
