BEGIN:VCALENDAR
PRODID:-//eluceo/ical//2.0/EN
VERSION:2.0
CALSCALE:GREGORIAN
BEGIN:VEVENT
UID:c871ee47d12144ca33d83ca2f061c279
DTSTAMP:20260420T181002Z
SUMMARY:[Frauen Landesliga] CVJM HB Dußlingen-Gomaringen 1 - CVJM Kirchent
 ellinsfurt 
URL:https://www.eichenkreuzliga.de/handball/game/id/16349
DTSTART:20231022T163000
DTEND:20231022T173000
LOCATION:Hönisch Sporthalle\, 72144 Dusslingen
END:VEVENT
BEGIN:VEVENT
UID:7c4a9090ba324c8a6cec468fc40febb5
DTSTAMP:20260420T181002Z
SUMMARY:[weibliche E-Jugend Runde] CVJM HB Dußlingen-Gomaringen 1 - CVJM  
 Walddorfhäslach 
URL:https://www.eichenkreuzliga.de/handball/game/id/16629
DTSTART:20231022T144500
DTEND:20231022T154500
LOCATION:Hönisch Sporthalle\, 72144 Dusslingen
END:VEVENT
BEGIN:VEVENT
UID:bc608bfcf03426831c1950978f9210d4
DTSTAMP:20260420T181002Z
SUMMARY:[weibliche E-Jugend Runde] CVJM HB Dußlingen-Gomaringen 2 - CVJM H
 B Dußlingen-Gomaringen 1
URL:https://www.eichenkreuzliga.de/handball/game/id/16630
DTSTART:20231022T123000
DTEND:20231022T133000
LOCATION:Hönisch Sporthalle\, 72144 Dusslingen
END:VEVENT
BEGIN:VEVENT
UID:a575cba9bdfd545300ff35f3cf6d405b
DTSTAMP:20260420T181002Z
SUMMARY:[weibliche E-Jugend Runde] CVJM HB Dußlingen-Gomaringen 2 - CVJM K
 irchentellinsfurt 
URL:https://www.eichenkreuzliga.de/handball/game/id/16631
DTSTART:20231022T135000
DTEND:20231022T145000
LOCATION:Hönisch Sporthalle\, 72144 Dusslingen
END:VEVENT
BEGIN:VEVENT
UID:9bffdc04492cc972a3a5ff6dd517ebb0
DTSTAMP:20260420T181002Z
SUMMARY:[weibliche E-Jugend Runde] CVJM Kirchentellinsfurt  - CVJM Untertü
 rkheim 
URL:https://www.eichenkreuzliga.de/handball/game/id/16632
DTSTART:20231022T152500
DTEND:20231022T162500
LOCATION:Hönisch Sporthalle\, 72144 Dusslingen
END:VEVENT
BEGIN:VEVENT
UID:da3ee741fd182b2bfbc74c96f69802a3
DTSTAMP:20260420T181002Z
SUMMARY:[weibliche E-Jugend Runde] CVJM  Walddorfhäslach  - CVJM Untertür
 kheim 
URL:https://www.eichenkreuzliga.de/handball/game/id/16633
DTSTART:20231022T131000
DTEND:20231022T141000
LOCATION:Hönisch Sporthalle\, 72144 Dusslingen
END:VEVENT
BEGIN:VEVENT
UID:6aab9557f16c36181a59f6eb22fc1f95
DTSTAMP:20260420T181002Z
SUMMARY:[Männer Landesliga] CVJM HB Dußlingen-Gomaringen  - EK Köngen 
URL:https://www.eichenkreuzliga.de/handball/game/id/16781
DTSTART:20231022T180000
DTEND:20231022T190000
LOCATION:Hönisch Sporthalle\, 72144 Dusslingen
END:VEVENT
BEGIN:VEVENT
UID:ea94d5d816a2c81fe0fd92604335ec06
DTSTAMP:20260420T181002Z
SUMMARY:[ ]   -  
URL:https://www.eichenkreuzliga.de/handball/game/id/17198
DTSTART:20231022T142500
DTEND:20231022T152500
LOCATION:Hönisch Sporthalle\, 72144 Dusslingen
END:VEVENT
END:VCALENDAR
