BEGIN:VCALENDAR
PRODID:-//eluceo/ical//2.0/EN
VERSION:2.0
CALSCALE:GREGORIAN
BEGIN:VEVENT
UID:603c2bf2e9d022bc8cf6b46abece7ae3
DTSTAMP:20260420T180715Z
SUMMARY:[Männer Landesliga] EK Köngen  - EK Höfingen 
URL:https://www.eichenkreuzliga.de/handball/game/id/16787
DTSTART:20231028T190000
DTEND:20231028T200000
LOCATION:Burgschulhalle\, 73257 Köngen
END:VEVENT
BEGIN:VEVENT
UID:bf88b2efba9a22eb6e67739ae76f399b
DTSTAMP:20260420T180715Z
SUMMARY:[Männer LK2] EK Köngen 1b - CVJM Plochingen 
URL:https://www.eichenkreuzliga.de/handball/game/id/16849
DTSTART:20231028T170000
DTEND:20231028T180000
LOCATION:Burgschulhalle\, 73257 Köngen
END:VEVENT
BEGIN:VEVENT
UID:89db466e1ba70ea482b098d4bd109603
DTSTAMP:20260420T180715Z
SUMMARY:[männliche A-Jugend Runde] EK Köngen  - EK Bernhausen 
URL:https://www.eichenkreuzliga.de/handball/game/id/17011
DTSTART:20231028T150000
DTEND:20231028T160000
LOCATION:Burgschulhalle\, 73257 Köngen
END:VEVENT
END:VCALENDAR
