BEGIN:VCALENDAR
PRODID:-//eluceo/ical//2.0/EN
VERSION:2.0
CALSCALE:GREGORIAN
BEGIN:VEVENT
UID:2a80aad18dee18bc32dd9a72c41dc60d
DTSTAMP:20260421T022045Z
SUMMARY:[Männer LK2] EJW Münchingen  - EK Bernhausen 
URL:https://www.eichenkreuzliga.de/handball/game/id/16860
DTSTART:20231119T161500
DTEND:20231119T171500
LOCATION:Sporthalle Münchingen\, 70825 Korntal-Münchingen
END:VEVENT
BEGIN:VEVENT
UID:2a2da2bbd97494f6c5da1089d2df9866
DTSTAMP:20260421T022045Z
SUMMARY:[weibliche B-Jugend Runde] EJW Münchingen AK als wB2 - CVJM Hülbe
 n 
URL:https://www.eichenkreuzliga.de/handball/game/id/17146
DTSTART:20231119T143000
DTEND:20231119T153000
LOCATION:Sporthalle Münchingen\, 70825 Korntal-Münchingen
END:VEVENT
END:VCALENDAR
