BEGIN:VCALENDAR
PRODID:-//eluceo/ical//2.0/EN
VERSION:2.0
CALSCALE:GREGORIAN
BEGIN:VEVENT
UID:a09e61159aeb0b3d7db4beb2ae74e2af
DTSTAMP:20260424T031256Z
SUMMARY:[weibliche C-Jugend Runde] CVJM  Walddorfhäslach  - CVJM HB Dußli
 ngen-Gomaringen 1
URL:https://www.eichenkreuzliga.de/handball/game/id/16956
DTSTART:20231119T130000
DTEND:20231119T140000
LOCATION:Ballspielhalle\, 72141 Walddorfhäslach
END:VEVENT
BEGIN:VEVENT
UID:de7af3277d27a758ed0813b0f31deb34
DTSTAMP:20260424T031256Z
SUMMARY:[männliche A-Jugend Runde] CVJM  Walddorfhäslach  - CVJM HB Dußl
 ingen-Gomaringen 
URL:https://www.eichenkreuzliga.de/handball/game/id/16996
DTSTART:20231119T144500
DTEND:20231119T154500
LOCATION:Ballspielhalle\, 72141 Walddorfhäslach
END:VEVENT
END:VCALENDAR
