BEGIN:VCALENDAR
PRODID:-//eluceo/ical//2.0/EN
VERSION:2.0
CALSCALE:GREGORIAN
BEGIN:VEVENT
UID:d01716721a1bc7294aed71c6f80989ea
DTSTAMP:20260420T175959Z
SUMMARY:[Frauen Landesliga] CVJM SG Mössingen/Belsen  - EK Bernhausen 
URL:https://www.eichenkreuzliga.de/handball/game/id/16378
DTSTART:20231125T143000
DTEND:20231125T153000
LOCATION:Jahnhalle 2\, 72116 Mössingen
END:VEVENT
BEGIN:VEVENT
UID:db59ab56f041d846435b1465fb202aac
DTSTAMP:20260420T175959Z
SUMMARY:[Männer Landesliga] CVJM SG Mössingen/Belsen  - EK Köngen 
URL:https://www.eichenkreuzliga.de/handball/game/id/16804
DTSTART:20231125T183000
DTEND:20231125T193000
LOCATION:Jahnhalle 2\, 72116 Mössingen
END:VEVENT
BEGIN:VEVENT
UID:cdd292ed460882409176afb7204807ec
DTSTAMP:20260420T175959Z
SUMMARY:[Männer LK4] CVJM SG Mössingen/Belsen 1c - CVJM Möglingen 
URL:https://www.eichenkreuzliga.de/handball/game/id/16930
DTSTART:20231125T163000
DTEND:20231125T173000
LOCATION:Jahnhalle 2\, 72116 Mössingen
END:VEVENT
BEGIN:VEVENT
UID:9eba4e041567e92d18356e7e8b365aba
DTSTAMP:20260420T175959Z
SUMMARY:[weibliche B-Jugend Runde] CVJM SG Mössingen/Belsen  - CVJM Mögli
 ngen 
URL:https://www.eichenkreuzliga.de/handball/game/id/17174
DTSTART:20231125T130000
DTEND:20231125T140000
LOCATION:Jahnhalle 2\, 72116 Mössingen
END:VEVENT
END:VCALENDAR
