BEGIN:VCALENDAR
PRODID:-//eluceo/ical//2.0/EN
VERSION:2.0
CALSCALE:GREGORIAN
BEGIN:VEVENT
UID:f94664e2a83e6521f3fa0858bd0ccc07
DTSTAMP:20260420T175942Z
SUMMARY:[Frauen Landesliga] CVJM Hagelloch - Kusterdingen - CVJM Möglingen
  
URL:https://www.eichenkreuzliga.de/handball/game/id/16343
DTSTART:20231210T161500
DTEND:20231210T171500
LOCATION:Sporthalle Waldhäuser-Ost\, 72076 Tübingen
END:VEVENT
BEGIN:VEVENT
UID:17f529140446cd68eb7bc9fb10b72022
DTSTAMP:20260420T175942Z
SUMMARY:[Männer Landesliga] CVJM Hagelloch - Kusterdingen 1 - CVJM SG Mös
 singen/Belsen 
URL:https://www.eichenkreuzliga.de/handball/game/id/16814
DTSTART:20231210T180000
DTEND:20231210T190000
LOCATION:Sporthalle Waldhäuser-Ost\, 72076 Tübingen
END:VEVENT
END:VCALENDAR
