BEGIN:VCALENDAR
PRODID:-//eluceo/ical//2.0/EN
VERSION:2.0
CALSCALE:GREGORIAN
BEGIN:VEVENT
UID:99d8d754eb9d3936c3acadefbcc6e059
DTSTAMP:20260421T004122Z
SUMMARY:[Frauen Landesliga] CVJM SG Mössingen/Belsen  - CVJM Kirchentellin
 sfurt 
URL:https://www.eichenkreuzliga.de/handball/game/id/16379
DTSTART:20231210T173000
DTEND:20231210T183000
LOCATION:Jahnhalle 2\, 72116 Mössingen
END:VEVENT
BEGIN:VEVENT
UID:9f7afe5218b5ee4e15264c5c76438934
DTSTAMP:20260421T004122Z
SUMMARY:[weibliche D-Jugend Runde] CVJM SG Mössingen/Belsen  - EK Bernhaus
 en 
URL:https://www.eichenkreuzliga.de/handball/game/id/16567
DTSTART:20231210T140000
DTEND:20231210T150000
LOCATION:Jahnhalle 2\, 72116 Mössingen
END:VEVENT
BEGIN:VEVENT
UID:90d3607a92a7958f7db8247f3620ac50
DTSTAMP:20260421T004122Z
SUMMARY:[weibliche D-Jugend Runde] CVJM SG Mössingen/Belsen  - EK Höfinge
 n 
URL:https://www.eichenkreuzliga.de/handball/game/id/16568
DTSTART:20231210T130000
DTEND:20231210T140000
LOCATION:Jahnhalle 2\, 72116 Mössingen
END:VEVENT
BEGIN:VEVENT
UID:3edcf6d67f7695ee2c812da6dd92a9b8
DTSTAMP:20260421T004122Z
SUMMARY:[weibliche D-Jugend Runde] EK Bernhausen  - EK Höfingen 
URL:https://www.eichenkreuzliga.de/handball/game/id/16569
DTSTART:20231210T150000
DTEND:20231210T160000
LOCATION:Jahnhalle 2\, 72116 Mössingen
END:VEVENT
BEGIN:VEVENT
UID:6dd131970fdacdd5dada2d0fccc5b2f6
DTSTAMP:20260421T004122Z
SUMMARY:[ ]   -  
URL:https://www.eichenkreuzliga.de/handball/game/id/16596
DTSTART:20231210T144500
DTEND:20231210T154500
LOCATION:Jahnhalle 2\, 72116 Mössingen
END:VEVENT
BEGIN:VEVENT
UID:22adbf77f37e7d16b6a18f4bdce2fd9a
DTSTAMP:20260421T004122Z
SUMMARY:[männliche C-Jugend Runde] CVJM SG Mössingen/Belsen  - CVJM HB Du
 ßlingen-Gomaringen 2
URL:https://www.eichenkreuzliga.de/handball/game/id/17104
DTSTART:20231210T160000
DTEND:20231210T170000
LOCATION:Jahnhalle 2\, 72116 Mössingen
END:VEVENT
END:VCALENDAR
