BEGIN:VCALENDAR
PRODID:-//eluceo/ical//2.0/EN
VERSION:2.0
CALSCALE:GREGORIAN
BEGIN:VEVENT
UID:618d22263a5c98b7a3d6f55936ac9adb
DTSTAMP:20260420T230448Z
SUMMARY:[Männer LK3] CVJM Fellbach  - CVJM Flacht 1b
URL:https://www.eichenkreuzliga.de/handball/game/id/16913
DTSTART:20231216T180000
DTEND:20231216T190000
LOCATION:Zeppelinhalle\, 70734 Fellbach
END:VEVENT
BEGIN:VEVENT
UID:d696f46fc814e227f6b7c1c2994ad672
DTSTAMP:20260420T230448Z
SUMMARY:[männliche B-Jugend Runde] CVJM Fellbach  - CVJM Wildberg a.K.
URL:https://www.eichenkreuzliga.de/handball/game/id/17040
DTSTART:20231216T163000
DTEND:20231216T173000
LOCATION:Zeppelinhalle\, 70734 Fellbach
END:VEVENT
BEGIN:VEVENT
UID:f47cb092a344461b1a103d959c8284e1
DTSTAMP:20260420T230448Z
SUMMARY:[männliche C-Jugend Runde] CVJM Fellbach  - CVJM  Walddorfhäslach
  
URL:https://www.eichenkreuzliga.de/handball/game/id/17067
DTSTART:20231216T150000
DTEND:20231216T160000
LOCATION:Zeppelinhalle\, 70734 Fellbach
END:VEVENT
END:VCALENDAR
