BEGIN:VCALENDAR
PRODID:-//eluceo/ical//2.0/EN
VERSION:2.0
CALSCALE:GREGORIAN
BEGIN:VEVENT
UID:dcb4238a321ef658ac3a61afb14ad31a
DTSTAMP:20260424T045946Z
SUMMARY:[Männer LK4] CVJM Kusterdingen e.V.  - CVJM Möglingen 
URL:https://www.eichenkreuzliga.de/handball/game/id/16928
DTSTART:20231216T171500
DTEND:20231216T181500
LOCATION:Härtensporthalle\, 72127 Kusterdingen
END:VEVENT
BEGIN:VEVENT
UID:fa3764a302864a25c56400b43ee18a8a
DTSTAMP:20260424T045946Z
SUMMARY:[weibliche B-Jugend Runde] CVJM Kusterdingen e.V. Kusterdingen-Hage
 lloch - EJW Münchingen AK als wB2
URL:https://www.eichenkreuzliga.de/handball/game/id/17125
DTSTART:20231216T153000
DTEND:20231216T163000
LOCATION:Härtensporthalle\, 72127 Kusterdingen
END:VEVENT
END:VCALENDAR
