BEGIN:VCALENDAR
PRODID:-//eluceo/ical//2.0/EN
VERSION:2.0
CALSCALE:GREGORIAN
BEGIN:VEVENT
UID:cd891b1c8058004e7a5f2f31ba937809
DTSTAMP:20260420T175959Z
SUMMARY:[Männer Landesliga] CVJM SG Mössingen/Belsen  - CVJM  Walddorfhä
 slach 
URL:https://www.eichenkreuzliga.de/handball/game/id/16817
DTSTART:20240120T193000
DTEND:20240120T203000
LOCATION:Jahnhalle 2\, 72116 Mössingen
END:VEVENT
BEGIN:VEVENT
UID:9f70b297c28a284bb6fcf375251ae167
DTSTAMP:20260420T175959Z
SUMMARY:[Männer LK3] CVJM SG Mössingen/Belsen 1b - SG Grunbach Winterbach
  
URL:https://www.eichenkreuzliga.de/handball/game/id/16895
DTSTART:20240120T174500
DTEND:20240120T184500
LOCATION:Jahnhalle 2\, 72116 Mössingen
END:VEVENT
BEGIN:VEVENT
UID:67b90451a933e3385ac5b38ea46e664f
DTSTAMP:20260420T175959Z
SUMMARY:[Männer LK4] CVJM SG Mössingen/Belsen 1c - CVJM Wildberg 
URL:https://www.eichenkreuzliga.de/handball/game/id/16934
DTSTART:20240120T160000
DTEND:20240120T170000
LOCATION:Jahnhalle 2\, 72116 Mössingen
END:VEVENT
BEGIN:VEVENT
UID:4587a5218de5e64a7968f18979f7ad8b
DTSTAMP:20260420T175959Z
SUMMARY:[männliche C-Jugend Runde] CVJM SG Mössingen/Belsen  - CVJM  Wald
 dorfhäslach 
URL:https://www.eichenkreuzliga.de/handball/game/id/17093
DTSTART:20240120T143000
DTEND:20240120T153000
LOCATION:Jahnhalle 2\, 72116 Mössingen
END:VEVENT
BEGIN:VEVENT
UID:ae4dbd45146176d166732ac749bc0665
DTSTAMP:20260420T175959Z
SUMMARY:[weibliche B-Jugend Runde] CVJM SG Mössingen/Belsen  - EJW Münchi
 ngen 
URL:https://www.eichenkreuzliga.de/handball/game/id/17168
DTSTART:20240120T130000
DTEND:20240120T140000
LOCATION:Jahnhalle 2\, 72116 Mössingen
END:VEVENT
END:VCALENDAR
