BEGIN:VCALENDAR
PRODID:-//eluceo/ical//2.0/EN
VERSION:2.0
CALSCALE:GREGORIAN
BEGIN:VEVENT
UID:3ecd101bd44fb65a01d788b3e6bd7173
DTSTAMP:20260421T004153Z
SUMMARY:[männliche E-Jugend Runde] EJW Münchingen  - CVJM SG Mössingen/B
 elsen a.K.
URL:https://www.eichenkreuzliga.de/handball/game/id/16234
DTSTART:20240121T151000
DTEND:20240121T161000
LOCATION:Sporthalle Münchingen\, 70825 Korntal-Münchingen
END:VEVENT
BEGIN:VEVENT
UID:16514b53d41ae97027e549ada5ee2aa3
DTSTAMP:20260421T004153Z
SUMMARY:[männliche E-Jugend Runde] EJW Münchingen  - EK Höfingen 
URL:https://www.eichenkreuzliga.de/handball/game/id/16235
DTSTART:20240121T130000
DTEND:20240121T140000
LOCATION:Sporthalle Münchingen\, 70825 Korntal-Münchingen
END:VEVENT
BEGIN:VEVENT
UID:8fb6f93686529fc4bf5e808fe9999025
DTSTAMP:20260421T004153Z
SUMMARY:[männliche E-Jugend Runde] CVJM Hagelloch - Kusterdingen 1 - CVJM 
 SG Mössingen/Belsen a.K.
URL:https://www.eichenkreuzliga.de/handball/game/id/16236
DTSTART:20240121T134000
DTEND:20240121T144000
LOCATION:Sporthalle Münchingen\, 70825 Korntal-Münchingen
END:VEVENT
BEGIN:VEVENT
UID:6593634cbf611351cd403f6f86384f3d
DTSTAMP:20260421T004153Z
SUMMARY:[männliche E-Jugend Runde] CVJM Hagelloch - Kusterdingen 1 - EK H
 öfingen 
URL:https://www.eichenkreuzliga.de/handball/game/id/16237
DTSTART:20240121T143000
DTEND:20240121T153000
LOCATION:Sporthalle Münchingen\, 70825 Korntal-Münchingen
END:VEVENT
BEGIN:VEVENT
UID:ac06faa0b27ea910f55e5844472fa559
DTSTAMP:20260421T004153Z
SUMMARY:[ ]   -  
URL:https://www.eichenkreuzliga.de/handball/game/id/16313
DTSTART:20240121T141000
DTEND:20240121T151000
LOCATION:Sporthalle Münchingen\, 70825 Korntal-Münchingen
END:VEVENT
BEGIN:VEVENT
UID:5ca7e2b40cb914c36cd9c166a8894b81
DTSTAMP:20260421T004153Z
SUMMARY:[weibliche B-Jugend Runde] EJW Münchingen AK als wB2 - CVJM HB Du
 ßlingen-Gomaringen 
URL:https://www.eichenkreuzliga.de/handball/game/id/17151
DTSTART:20240121T160000
DTEND:20240121T170000
LOCATION:Sporthalle Münchingen\, 70825 Korntal-Münchingen
END:VEVENT
END:VCALENDAR
