BEGIN:VCALENDAR
PRODID:-//eluceo/ical//2.0/EN
VERSION:2.0
CALSCALE:GREGORIAN
BEGIN:VEVENT
UID:2af40cda1170ba02162da943dc068042
DTSTAMP:20260424T031255Z
SUMMARY:[weibliche D-Jugend Runde] CVJM Kusterdingen e.V.  - CVJM Kirchente
 llinsfurt 
URL:https://www.eichenkreuzliga.de/handball/game/id/16726
DTSTART:20240127T130000
DTEND:20240127T140000
LOCATION:Härtensporthalle\, 72127 Kusterdingen
END:VEVENT
BEGIN:VEVENT
UID:82500db355c398a2a2c782557e76256d
DTSTAMP:20260424T031255Z
SUMMARY:[weibliche D-Jugend Runde] CVJM Kirchentellinsfurt  - CVJM  Walddor
 fhäslach 
URL:https://www.eichenkreuzliga.de/handball/game/id/16727
DTSTART:20240127T153000
DTEND:20240127T163000
LOCATION:Härtensporthalle\, 72127 Kusterdingen
END:VEVENT
BEGIN:VEVENT
UID:8cdac7cbc30b4c996822151405e8d7fa
DTSTAMP:20260424T031255Z
SUMMARY:[weibliche D-Jugend Runde] CVJM Kusterdingen e.V.  - EK Höfingen 
URL:https://www.eichenkreuzliga.de/handball/game/id/16728
DTSTART:20240127T144500
DTEND:20240127T154500
LOCATION:Härtensporthalle\, 72127 Kusterdingen
END:VEVENT
BEGIN:VEVENT
UID:991838a74d1d014bf1aa0a2c8ebf9425
DTSTAMP:20260424T031255Z
SUMMARY:[weibliche D-Jugend Runde] EK Höfingen  - CVJM  Walddorfhäslach 
URL:https://www.eichenkreuzliga.de/handball/game/id/16729
DTSTART:20240127T134500
DTEND:20240127T144500
LOCATION:Härtensporthalle\, 72127 Kusterdingen
END:VEVENT
BEGIN:VEVENT
UID:c950b452636dd75c8e0cd8f76a06e71e
DTSTAMP:20260424T031255Z
SUMMARY:[ ]   -  
URL:https://www.eichenkreuzliga.de/handball/game/id/16742
DTSTART:20240127T143000
DTEND:20240127T153000
LOCATION:Härtensporthalle\, 72127 Kusterdingen
END:VEVENT
END:VCALENDAR
