BEGIN:VCALENDAR
PRODID:-//eluceo/ical//2.0/EN
VERSION:2.0
CALSCALE:GREGORIAN
BEGIN:VEVENT
UID:070380f0ea155c1c473d1f93fdaf4694
DTSTAMP:20260420T180752Z
SUMMARY:[männliche E-Jugend Runde] CVJM  Walddorfhäslach  - EJW Münching
 en 
URL:https://www.eichenkreuzliga.de/handball/game/id/16257
DTSTART:20240224T141000
DTEND:20240224T151000
LOCATION:Ballspielhalle\, 72141 Walddorfhäslach
END:VEVENT
BEGIN:VEVENT
UID:a1b659d2443b6c40dc7e9b3c52eae648
DTSTAMP:20260420T180752Z
SUMMARY:[männliche E-Jugend Runde] CVJM  Walddorfhäslach 2 - EJW Münchin
 gen 
URL:https://www.eichenkreuzliga.de/handball/game/id/16258
DTSTART:20240224T124000
DTEND:20240224T134000
LOCATION:Ballspielhalle\, 72141 Walddorfhäslach
END:VEVENT
BEGIN:VEVENT
UID:daf379bdb2e125d53bbeb390ea694c2c
DTSTAMP:20260420T180752Z
SUMMARY:[männliche E-Jugend Runde] CVJM  Walddorfhäslach  - CVJM Hagelloc
 h - Kusterdingen 1
URL:https://www.eichenkreuzliga.de/handball/game/id/16259
DTSTART:20240224T120000
DTEND:20240224T130000
LOCATION:Ballspielhalle\, 72141 Walddorfhäslach
END:VEVENT
BEGIN:VEVENT
UID:b7b3675d81b9ba57f95c8118719a6246
DTSTAMP:20260420T180752Z
SUMMARY:[männliche E-Jugend Runde] CVJM  Walddorfhäslach 2 - CVJM Hagello
 ch - Kusterdingen 1
URL:https://www.eichenkreuzliga.de/handball/game/id/16260
DTSTART:20240224T133000
DTEND:20240224T143000
LOCATION:Ballspielhalle\, 72141 Walddorfhäslach
END:VEVENT
BEGIN:VEVENT
UID:645bcf4f0e642ebe8305c69d6e718de1
DTSTAMP:20260420T180752Z
SUMMARY:[ ]   -  
URL:https://www.eichenkreuzliga.de/handball/game/id/16319
DTSTART:20240224T131000
DTEND:20240224T141000
LOCATION:Ballspielhalle\, 72141 Walddorfhäslach
END:VEVENT
BEGIN:VEVENT
UID:a4a0f4f8b8b9b8a3c2cba82bc3c28da3
DTSTAMP:20260420T180752Z
SUMMARY:[Frauen Landesliga] CVJM  Walddorfhäslach  - CVJM Hagelloch - Kust
 erdingen
URL:https://www.eichenkreuzliga.de/handball/game/id/16339
DTSTART:20240224T180000
DTEND:20240224T190000
LOCATION:Ballspielhalle\, 72141 Walddorfhäslach
END:VEVENT
BEGIN:VEVENT
UID:58a24c76c832f82f121e750cf9d62efe
DTSTAMP:20260420T180752Z
SUMMARY:[Männer Landesliga] CVJM  Walddorfhäslach  - EK Höfingen 
URL:https://www.eichenkreuzliga.de/handball/game/id/16794
DTSTART:20240224T194500
DTEND:20240224T204500
LOCATION:Ballspielhalle\, 72141 Walddorfhäslach
END:VEVENT
BEGIN:VEVENT
UID:bbaa6fe546273c9a60dc0f2aca2aeb4d
DTSTAMP:20260420T180752Z
SUMMARY:[männliche B-Jugend Runde] CVJM  Walddorfhäslach  - CVJM Mögling
 en 
URL:https://www.eichenkreuzliga.de/handball/game/id/17055
DTSTART:20240224T104500
DTEND:20240224T114500
LOCATION:Ballspielhalle\, 72141 Walddorfhäslach
END:VEVENT
END:VCALENDAR
