BEGIN:VCALENDAR
PRODID:-//eluceo/ical//2.0/EN
VERSION:2.0
CALSCALE:GREGORIAN
BEGIN:VEVENT
UID:329dbc11cbd7c3245f9174a0f8613034
DTSTAMP:20260421T004344Z
SUMMARY:[Männer LK2] EJW Münchingen  - CVJM  Walddorfhäslach 2
URL:https://www.eichenkreuzliga.de/handball/game/id/16863
DTSTART:20240303T174500
DTEND:20240303T184500
LOCATION:Sporthalle Münchingen\, 70825 Korntal-Münchingen
END:VEVENT
BEGIN:VEVENT
UID:6215c1dceb63a337e2e56c7cc25d5398
DTSTAMP:20260421T004344Z
SUMMARY:[männliche C-Jugend Runde] EJW Münchingen  - CVJM SG Mössingen/B
 elsen 
URL:https://www.eichenkreuzliga.de/handball/game/id/17109
DTSTART:20240303T160000
DTEND:20240303T170000
LOCATION:Sporthalle Münchingen\, 70825 Korntal-Münchingen
END:VEVENT
BEGIN:VEVENT
UID:6e9ba8c998624762046527446182139b
DTSTAMP:20260421T004344Z
SUMMARY:[weibliche B-Jugend Runde] EJW Münchingen AK als wB2 - CVJM Mögli
 ngen 
URL:https://www.eichenkreuzliga.de/handball/game/id/17159
DTSTART:20240303T130000
DTEND:20240303T140000
LOCATION:Sporthalle Münchingen\, 70825 Korntal-Münchingen
END:VEVENT
BEGIN:VEVENT
UID:b72f9aa47436743b21fa82dbe8f574d1
DTSTAMP:20260421T004344Z
SUMMARY:[weibliche B-Jugend Runde] EJW Münchingen  - EK Bernhausen a.K.
URL:https://www.eichenkreuzliga.de/handball/game/id/17166
DTSTART:20240303T143000
DTEND:20240303T153000
LOCATION:Sporthalle Münchingen\, 70825 Korntal-Münchingen
END:VEVENT
END:VCALENDAR
