BEGIN:VCALENDAR
PRODID:-//eluceo/ical//2.0/EN
VERSION:2.0
CALSCALE:GREGORIAN
BEGIN:VEVENT
UID:a47e3ec3460326e160b94c8d59268ca3
DTSTAMP:20260420T194719Z
SUMMARY:[männliche E-Jugend Runde] CVJM  Walddorfhäslach  - CVJM Kusterdi
 ngen e.V. 
URL:https://www.eichenkreuzliga.de/handball/game/id/16269
DTSTART:20240309T130000
DTEND:20240309T140000
LOCATION:Ballspielhalle\, 72141 Walddorfhäslach
END:VEVENT
BEGIN:VEVENT
UID:9bde758a91cd0501a75269bb9e85be89
DTSTAMP:20260420T194719Z
SUMMARY:[männliche E-Jugend Runde] CVJM  Walddorfhäslach 2 - CVJM Kusterd
 ingen e.V. 
URL:https://www.eichenkreuzliga.de/handball/game/id/16270
DTSTART:20240309T135000
DTEND:20240309T145000
LOCATION:Ballspielhalle\, 72141 Walddorfhäslach
END:VEVENT
BEGIN:VEVENT
UID:a823b00807f8c9998ce53b5fbb7ea63c
DTSTAMP:20260420T194719Z
SUMMARY:[männliche E-Jugend Runde] CVJM  Walddorfhäslach  - CVJM Hülben 
URL:https://www.eichenkreuzliga.de/handball/game/id/16271
DTSTART:20240309T000000
DTEND:20240309T010000
LOCATION:Ballspielhalle\, 72141 Walddorfhäslach
END:VEVENT
BEGIN:VEVENT
UID:5d10ed6cb92bfe331a00cf6e51dfd928
DTSTAMP:20260420T194719Z
SUMMARY:[männliche E-Jugend Runde] CVJM  Walddorfhäslach 2 - CVJM Hülben
  
URL:https://www.eichenkreuzliga.de/handball/game/id/16272
DTSTART:20240309T000000
DTEND:20240309T010000
LOCATION:Ballspielhalle\, 72141 Walddorfhäslach
END:VEVENT
BEGIN:VEVENT
UID:ef5bdb883747a634260aab02659fc0de
DTSTAMP:20260420T194719Z
SUMMARY:[Männer Landesliga] CVJM  Walddorfhäslach  - EK Köngen 
URL:https://www.eichenkreuzliga.de/handball/game/id/16799
DTSTART:20240309T191500
DTEND:20240309T201500
LOCATION:Ballspielhalle\, 72141 Walddorfhäslach
END:VEVENT
BEGIN:VEVENT
UID:b8c985d7e42b28cbc3ea5bbae4ebfca3
DTSTAMP:20260420T194719Z
SUMMARY:[Männer LK2] CVJM  Walddorfhäslach 2 - CVJM Flacht 
URL:https://www.eichenkreuzliga.de/handball/game/id/16843
DTSTART:20240309T173000
DTEND:20240309T183000
LOCATION:Ballspielhalle\, 72141 Walddorfhäslach
END:VEVENT
BEGIN:VEVENT
UID:03453f6473ba1e272d01d2351687c347
DTSTAMP:20260420T194719Z
SUMMARY:[weibliche C-Jugend Runde] CVJM  Walddorfhäslach  - EK Bernhausen 
URL:https://www.eichenkreuzliga.de/handball/game/id/16954
DTSTART:20240309T113000
DTEND:20240309T123000
LOCATION:Ballspielhalle\, 72141 Walddorfhäslach
END:VEVENT
BEGIN:VEVENT
UID:ff39d714db7372933012ca7230978b3a
DTSTAMP:20260420T194719Z
SUMMARY:[männliche C-Jugend Runde] CVJM  Walddorfhäslach  - CVJM HB Dußl
 ingen-Gomaringen 2
URL:https://www.eichenkreuzliga.de/handball/game/id/17088
DTSTART:20240309T160000
DTEND:20240309T170000
LOCATION:Ballspielhalle\, 72141 Walddorfhäslach
END:VEVENT
BEGIN:VEVENT
UID:0378e537543be56bd722899786bbe5cc
DTSTAMP:20260420T194719Z
SUMMARY:[ ]   -  
URL:https://www.eichenkreuzliga.de/handball/game/id/17415
DTSTART:20240309T134000
DTEND:20240309T144000
LOCATION:Ballspielhalle\, 72141 Walddorfhäslach
END:VEVENT
END:VCALENDAR
