BEGIN:VCALENDAR
PRODID:-//eluceo/ical//2.0/EN
VERSION:2.0
CALSCALE:GREGORIAN
BEGIN:VEVENT
UID:48c124807dbc2dacd42f8280429de419
DTSTAMP:20260421T022457Z
SUMMARY:[Frauen Landesliga] CVJM HB Dußlingen-Gomaringen 1 - CVJM  Walddor
 fhäslach 
URL:https://www.eichenkreuzliga.de/handball/game/id/16353
DTSTART:20240316T183000
DTEND:20240316T193000
LOCATION:Hönisch Sporthalle\, 72144 Dusslingen
END:VEVENT
BEGIN:VEVENT
UID:e2da2512180c2279d390aed0233f83c4
DTSTAMP:20260421T022457Z
SUMMARY:[Männer LK2] CVJM HB Dußlingen-Gomaringen 2 - CVJM  Walddorfhäsl
 ach 2
URL:https://www.eichenkreuzliga.de/handball/game/id/16848
DTSTART:20240316T164500
DTEND:20240316T174500
LOCATION:Hönisch Sporthalle\, 72144 Dusslingen
END:VEVENT
BEGIN:VEVENT
UID:acf47803eafb5ab1f6ba00e907453c86
DTSTAMP:20260421T022457Z
SUMMARY:[männliche A-Jugend Runde] CVJM HB Dußlingen-Gomaringen  - EK Kö
 ngen 
URL:https://www.eichenkreuzliga.de/handball/game/id/17021
DTSTART:20240316T200000
DTEND:20240316T210000
LOCATION:Hönisch Sporthalle\, 72144 Dusslingen
END:VEVENT
BEGIN:VEVENT
UID:51dedaf57f7fdf16e2d333484984c78d
DTSTAMP:20260421T022457Z
SUMMARY:[männliche D-Jugend Finalspieltag] CVJM HB Dußlingen-Gomaringen 1
  - EK Bernhausen 1
URL:https://www.eichenkreuzliga.de/handball/game/id/17219
DTSTART:20240316T130000
DTEND:20240316T140000
LOCATION:Hönisch Sporthalle\, 72144 Dusslingen
END:VEVENT
BEGIN:VEVENT
UID:bf75bd3989f38745c861b35ff9071ac6
DTSTAMP:20260421T022457Z
SUMMARY:[männliche D-Jugend Finalspieltag] CVJM  Walddorfhäslach  - CVJM 
 Fellbach 
URL:https://www.eichenkreuzliga.de/handball/game/id/17220
DTSTART:20240316T134500
DTEND:20240316T144500
LOCATION:Hönisch Sporthalle\, 72144 Dusslingen
END:VEVENT
BEGIN:VEVENT
UID:676bd4b0c9cac80bd0f4d92c1dcb7db9
DTSTAMP:20260421T022457Z
SUMMARY:[männliche D-Jugend Finalspieltag] EK Bernhausen 1 - CVJM Fellbach
  
URL:https://www.eichenkreuzliga.de/handball/game/id/17221
DTSTART:20240316T144500
DTEND:20240316T154500
LOCATION:Hönisch Sporthalle\, 72144 Dusslingen
END:VEVENT
BEGIN:VEVENT
UID:319a2aab8ba40bca5c79fe54a91f01f3
DTSTAMP:20260421T022457Z
SUMMARY:[männliche D-Jugend Finalspieltag] CVJM  Walddorfhäslach  - CVJM 
 HB Dußlingen-Gomaringen 1
URL:https://www.eichenkreuzliga.de/handball/game/id/17222
DTSTART:20240316T153000
DTEND:20240316T163000
LOCATION:Hönisch Sporthalle\, 72144 Dusslingen
END:VEVENT
BEGIN:VEVENT
UID:f5db92ceb20d0a657a3efc564f3c4263
DTSTAMP:20260421T022457Z
SUMMARY:[ ]   -  
URL:https://www.eichenkreuzliga.de/handball/game/id/17223
DTSTART:20240316T161500
DTEND:20240316T171500
LOCATION:Hönisch Sporthalle\, 72144 Dusslingen
END:VEVENT
END:VCALENDAR
