BEGIN:VCALENDAR
PRODID:-//eluceo/ical//2.0/EN
VERSION:2.0
CALSCALE:GREGORIAN
BEGIN:VEVENT
UID:39b40960b50be9ff24eafde2b43618cc
DTSTAMP:20260421T004259Z
SUMMARY:[Männer LK2] EJW Münchingen  - CVJM Plochingen 
URL:https://www.eichenkreuzliga.de/handball/game/id/16876
DTSTART:20240317T170000
DTEND:20240317T180000
LOCATION:Sporthalle Münchingen\, 70825 Korntal-Münchingen
END:VEVENT
BEGIN:VEVENT
UID:4f4ecdd841b954293e64dd886dcdae27
DTSTAMP:20260421T004259Z
SUMMARY:[männliche C-Jugend Runde] EJW Münchingen  - CVJM Kusterdingen e.
 V. 
URL:https://www.eichenkreuzliga.de/handball/game/id/17107
DTSTART:20240317T150000
DTEND:20240317T160000
LOCATION:Sporthalle Münchingen\, 70825 Korntal-Münchingen
END:VEVENT
BEGIN:VEVENT
UID:f5a98f4edd867b645a9e0f8182b927ca
DTSTAMP:20260421T004259Z
SUMMARY:[männliche B-Jugend Runde] EJW Münchingen  - EK Köngen 
URL:https://www.eichenkreuzliga.de/handball/game/id/17175
DTSTART:20240317T130000
DTEND:20240317T140000
LOCATION:Sporthalle Münchingen\, 70825 Korntal-Münchingen
END:VEVENT
END:VCALENDAR
