BEGIN:VCALENDAR
PRODID:-//eluceo/ical//2.0/EN
VERSION:2.0
CALSCALE:GREGORIAN
BEGIN:VEVENT
UID:3225e77cfad3fa62c50dce3c2f2cfefa
DTSTAMP:20260420T180752Z
SUMMARY:[weibliche E-Jugend Finalspieltag] CVJM HB Dußlingen-Gomaringen 1 
 - EK Köngen 
URL:https://www.eichenkreuzliga.de/handball/game/id/16702
DTSTART:20240413T144500
DTEND:20240413T154500
LOCATION:Hönisch Sporthalle\, 72144 Dusslingen
END:VEVENT
BEGIN:VEVENT
UID:84a09a5f62acf3e5b4f590596d0932a6
DTSTAMP:20260420T180752Z
SUMMARY:[weibliche E-Jugend Finalspieltag] CVJM  Walddorfhäslach  - CVJM K
 irchentellinsfurt 
URL:https://www.eichenkreuzliga.de/handball/game/id/16703
DTSTART:20240413T153000
DTEND:20240413T163000
LOCATION:Hönisch Sporthalle\, 72144 Dusslingen
END:VEVENT
BEGIN:VEVENT
UID:5d735433cf8907b79c4c9c16ba37d28d
DTSTAMP:20260420T180752Z
SUMMARY:[weibliche E-Jugend Finalspieltag] CVJM  Walddorfhäslach  - EK Kö
 ngen 
URL:https://www.eichenkreuzliga.de/handball/game/id/16705
DTSTART:20240413T164500
DTEND:20240413T174500
LOCATION:Hönisch Sporthalle\, 72144 Dusslingen
END:VEVENT
BEGIN:VEVENT
UID:697a907db2db22863ff77ae94aa996de
DTSTAMP:20260420T180752Z
SUMMARY:[weibliche E-Jugend Finalspieltag] CVJM HB Dußlingen-Gomaringen 1 
 - CVJM Kirchentellinsfurt 
URL:https://www.eichenkreuzliga.de/handball/game/id/16706
DTSTART:20240413T173000
DTEND:20240413T183000
LOCATION:Hönisch Sporthalle\, 72144 Dusslingen
END:VEVENT
BEGIN:VEVENT
UID:8efa5d697de72f45e59f025731df27e8
DTSTAMP:20260420T180752Z
SUMMARY:[Männer Landesliga] CVJM HB Dußlingen-Gomaringen  - CVJM  Walddor
 fhäslach 
URL:https://www.eichenkreuzliga.de/handball/game/id/16813
DTSTART:20240413T193000
DTEND:20240413T203000
LOCATION:Hönisch Sporthalle\, 72144 Dusslingen
END:VEVENT
BEGIN:VEVENT
UID:34d65eb51775c803f8d0a6875e6fa2f9
DTSTAMP:20260420T180752Z
SUMMARY:[ ]   -  
URL:https://www.eichenkreuzliga.de/handball/game/id/17249
DTSTART:20240413T181500
DTEND:20240413T191500
LOCATION:Hönisch Sporthalle\, 72144 Dusslingen
END:VEVENT
BEGIN:VEVENT
UID:86d47095a42b41f363c9fb556f863147
DTSTAMP:20260420T180752Z
SUMMARY:[ ]   -  
URL:https://www.eichenkreuzliga.de/handball/game/id/17250
DTSTART:20240413T161500
DTEND:20240413T171500
LOCATION:Hönisch Sporthalle\, 72144 Dusslingen
END:VEVENT
END:VCALENDAR
