BEGIN:VCALENDAR
PRODID:-//eluceo/ical//2.0/EN
VERSION:2.0
CALSCALE:GREGORIAN
BEGIN:VEVENT
UID:72ed1b15193d87c5bf9cc8ec2350b08d
DTSTAMP:20260421T004334Z
SUMMARY:[Frauen Landesliga] CVJM HB Dußlingen-Gomaringen 1 - CVJM SG Möss
 ingen/Belsen 
URL:https://www.eichenkreuzliga.de/handball/game/id/16354
DTSTART:20240414T160000
DTEND:20240414T170000
LOCATION:Hönisch Sporthalle\, 72144 Dusslingen
END:VEVENT
BEGIN:VEVENT
UID:b22e087ff1038852ea7d2bf0926b7f1c
DTSTAMP:20260421T004334Z
SUMMARY:[Frauen Landesliga] CVJM HB Dußlingen-Gomaringen 2 - CVJM Mögling
 en 
URL:https://www.eichenkreuzliga.de/handball/game/id/16360
DTSTART:20240414T143000
DTEND:20240414T153000
LOCATION:Hönisch Sporthalle\, 72144 Dusslingen
END:VEVENT
BEGIN:VEVENT
UID:ee4a1dac8df5d17fbd9c08a2f09eb639
DTSTAMP:20260421T004334Z
SUMMARY:[männliche A-Jugend Runde] CVJM HB Dußlingen-Gomaringen  - CVJM E
 nzweihingen 
URL:https://www.eichenkreuzliga.de/handball/game/id/17010
DTSTART:20240414T130000
DTEND:20240414T140000
LOCATION:Hönisch Sporthalle\, 72144 Dusslingen
END:VEVENT
BEGIN:VEVENT
UID:8cf6812a9720b5c8f9eadadd86a05c3d
DTSTAMP:20260421T004334Z
SUMMARY:[männliche C-Jugend Finalspiele] EK Bernhausen  - CVJM HB Dußling
 en-Gomaringen 1
URL:https://www.eichenkreuzliga.de/handball/game/id/17205
DTSTART:20240414T173000
DTEND:20240414T183000
LOCATION:Hönisch Sporthalle\, 72144 Dusslingen
END:VEVENT
END:VCALENDAR
