BEGIN:VCALENDAR
PRODID:-//eluceo/ical//2.0/EN
VERSION:2.0
CALSCALE:GREGORIAN
BEGIN:VEVENT
UID:bb119b90a37c3c659fa004d5da345e5f
DTSTAMP:20260420T180045Z
SUMMARY:[Frauen Landesliga] CVJM HB Dußlingen-Gomaringen 2 - EK Bernhausen
  
URL:https://www.eichenkreuzliga.de/handball/game/id/16356
DTSTART:20240427T181500
DTEND:20240427T191500
LOCATION:Hönisch Sporthalle\, 72144 Dusslingen
END:VEVENT
BEGIN:VEVENT
UID:12f0e18194a309e0a882d1c5dcfc84ed
DTSTAMP:20260420T180045Z
SUMMARY:[Männer Landesliga] CVJM HB Dußlingen-Gomaringen  - CVJM Kirchent
 ellinsfurt 
URL:https://www.eichenkreuzliga.de/handball/game/id/16832
DTSTART:20240427T200000
DTEND:20240427T210000
LOCATION:Hönisch Sporthalle\, 72144 Dusslingen
END:VEVENT
BEGIN:VEVENT
UID:d020f5f7a67a0e068b2cace03823ec86
DTSTAMP:20260420T180045Z
SUMMARY:[weibliche B-Jugend Finalspiele] CVJM Möglingen  - CVJM Kirchentel
 linsfurt 
URL:https://www.eichenkreuzliga.de/handball/game/id/17182
DTSTART:20240427T141500
DTEND:20240427T151500
LOCATION:Hönisch Sporthalle\, 72144 Dusslingen
END:VEVENT
BEGIN:VEVENT
UID:8a9bb81652a1c61969f25d392e2281d8
DTSTAMP:20260420T180045Z
SUMMARY:[weibliche B-Jugend Finalspiele] CVJM HB Dußlingen-Gomaringen  - E
 JW Münchingen 
URL:https://www.eichenkreuzliga.de/handball/game/id/17183
DTSTART:20240427T160000
DTEND:20240427T170000
LOCATION:Hönisch Sporthalle\, 72144 Dusslingen
END:VEVENT
BEGIN:VEVENT
UID:c5df075879b9957cd84cf449169c6058
DTSTAMP:20260420T180045Z
SUMMARY:[ ]   -  
URL:https://www.eichenkreuzliga.de/handball/game/id/17423
DTSTART:20240427T170000
DTEND:20240427T180000
LOCATION:Hönisch Sporthalle\, 72144 Dusslingen
END:VEVENT
END:VCALENDAR
