BEGIN:VCALENDAR
PRODID:-//eluceo/ical//2.0/EN
VERSION:2.0
CALSCALE:GREGORIAN
BEGIN:VEVENT
UID:37d01e8aa1eed967ca5b30bcb90db364
DTSTAMP:20260421T022045Z
SUMMARY:[Männer LK2] CVJM HB Dußlingen-Gomaringen 2 - EK Köngen 1b
URL:https://www.eichenkreuzliga.de/handball/game/id/16875
DTSTART:20240428T170000
DTEND:20240428T180000
LOCATION:Hönisch Sporthalle\, 72144 Dusslingen
END:VEVENT
BEGIN:VEVENT
UID:d2a9efa00163e672d5bf08e10c783f62
DTSTAMP:20260421T022045Z
SUMMARY:[männliche B-Jugend Finalspiele] CVJM HB Dußlingen-Gomaringen  - 
 EJW Münchingen 
URL:https://www.eichenkreuzliga.de/handball/game/id/17202
DTSTART:20240428T130000
DTEND:20240428T140000
LOCATION:Hönisch Sporthalle\, 72144 Dusslingen
END:VEVENT
BEGIN:VEVENT
UID:7918e13e87fc7cc2801cd45e439a2d7e
DTSTAMP:20260421T022045Z
SUMMARY:[männliche B-Jugend Finalspiele] CVJM  Walddorfhäslach  - EK Bern
 hausen 
URL:https://www.eichenkreuzliga.de/handball/game/id/17203
DTSTART:20240428T143000
DTEND:20240428T153000
LOCATION:Hönisch Sporthalle\, 72144 Dusslingen
END:VEVENT
BEGIN:VEVENT
UID:1194f61d75f7c419e2ca1cc00e2663f5
DTSTAMP:20260421T022045Z
SUMMARY:[ ]   -  
URL:https://www.eichenkreuzliga.de/handball/game/id/17224
DTSTART:20240428T160000
DTEND:20240428T170000
LOCATION:Hönisch Sporthalle\, 72144 Dusslingen
END:VEVENT
END:VCALENDAR
