BEGIN:VCALENDAR
PRODID:-//eluceo/ical//2.0/EN
VERSION:2.0
CALSCALE:GREGORIAN
BEGIN:VEVENT
UID:bd7cf4ed98392e81b7782e2bd1d106fb
DTSTAMP:20260420T180046Z
SUMMARY:[Frauen Landesliga] CVJM Kirchentellinsfurt  - CVJM HB Dußlingen-G
 omaringen 2
URL:https://www.eichenkreuzliga.de/handball/game/id/16362
DTSTART:20231028T181500
DTEND:20231028T191500
LOCATION:Sporthalle\, 72138 Kirchentellinsfurt
END:VEVENT
BEGIN:VEVENT
UID:a4cfc570c62f8cb640ba33a22ddce763
DTSTAMP:20260420T180046Z
SUMMARY:[Männer Landesliga] CVJM Kirchentellinsfurt  - CVJM Hagelloch - Ku
 sterdingen 1
URL:https://www.eichenkreuzliga.de/handball/game/id/16785
DTSTART:20231028T200000
DTEND:20231028T210000
LOCATION:Sporthalle\, 72138 Kirchentellinsfurt
END:VEVENT
END:VCALENDAR
