BEGIN:VCALENDAR
PRODID:-//eluceo/ical//2.0/EN
VERSION:2.0
CALSCALE:GREGORIAN
BEGIN:VEVENT
UID:b9639f2239c3f183856136626298c4f6
DTSTAMP:20260421T022017Z
SUMMARY:[männliche B-Jugend Runde] CVJM Wildberg a.K. - EK Köngen 
URL:https://www.eichenkreuzliga.de/handball/game/id/17029
DTSTART:20231112T150000
DTEND:20231112T160000
LOCATION:Sporthalle Wildberg\, 72218 Wildberg
END:VEVENT
END:VCALENDAR
