BEGIN:VCALENDAR
PRODID:-//eluceo/ical//2.0/EN
VERSION:2.0
CALSCALE:GREGORIAN
BEGIN:VEVENT
UID:9059e068a989a0bcb4ac01eac30d428d
DTSTAMP:20260421T022029Z
SUMMARY:[ ]   -  
URL:https://www.eichenkreuzliga.de/handball/game/id/16064
DTSTART:20231202T180000
DTEND:20231202T190000
LOCATION:Stadionhalle\, 71696 Möglingen
END:VEVENT
BEGIN:VEVENT
UID:9ba3fffc5db2b639f49e00131a1a1628
DTSTAMP:20260421T022029Z
SUMMARY:[Frauen Landesliga] CVJM Möglingen  - CVJM Kirchentellinsfurt 
URL:https://www.eichenkreuzliga.de/handball/game/id/16371
DTSTART:20231202T160000
DTEND:20231202T170000
LOCATION:Stadionhalle\, 71696 Möglingen
END:VEVENT
END:VCALENDAR
