BEGIN:VCALENDAR
PRODID:-//eluceo/ical//2.0/EN
VERSION:2.0
CALSCALE:GREGORIAN
BEGIN:VEVENT
UID:613f5ed4003a781d7f3a4131e2ca07fc
DTSTAMP:20260420T231030Z
SUMMARY:[ ]   -  
URL:https://www.eichenkreuzliga.de/handball/game/id/16068
DTSTART:20231216T160000
DTEND:20231216T170000
LOCATION:Stadionhalle\, 71696 Möglingen
END:VEVENT
BEGIN:VEVENT
UID:e9b84334bd560687e7aeac03f06b32d7
DTSTAMP:20260420T231030Z
SUMMARY:[ ]   -  
URL:https://www.eichenkreuzliga.de/handball/game/id/16069
DTSTART:20231216T200000
DTEND:20231216T210000
LOCATION:Stadionhalle\, 71696 Möglingen
END:VEVENT
BEGIN:VEVENT
UID:fac03be6caac99f902d492907ab2b64a
DTSTAMP:20260420T231030Z
SUMMARY:[ ]   -  
URL:https://www.eichenkreuzliga.de/handball/game/id/16080
DTSTART:20231216T180000
DTEND:20231216T190000
LOCATION:Stadionhalle\, 71696 Möglingen
END:VEVENT
BEGIN:VEVENT
UID:8ff648c1cd4c0c0f84ca6af30ed770ac
DTSTAMP:20260420T231030Z
SUMMARY:[männliche E-Jugend Runde] CVJM Kusterdingen e.V.  - EK Köngen 
URL:https://www.eichenkreuzliga.de/handball/game/id/16218
DTSTART:20231216T133000
DTEND:20231216T143000
LOCATION:Stadionhalle\, 71696 Möglingen
END:VEVENT
BEGIN:VEVENT
UID:935bf36135e616ee9a178ccbf80cbc42
DTSTAMP:20260420T231030Z
SUMMARY:[männliche E-Jugend Runde] CVJM Möglingen  - CVJM Kusterdingen e.
 V. 
URL:https://www.eichenkreuzliga.de/handball/game/id/16220
DTSTART:20231216T120000
DTEND:20231216T130000
LOCATION:Stadionhalle\, 71696 Möglingen
END:VEVENT
BEGIN:VEVENT
UID:5b67f8df4c292d826e149a53837cc502
DTSTAMP:20260420T231030Z
SUMMARY:[männliche E-Jugend Runde] CVJM Möglingen  - EK Köngen 
URL:https://www.eichenkreuzliga.de/handball/game/id/16221
DTSTART:20231216T124000
DTEND:20231216T134000
LOCATION:Stadionhalle\, 71696 Möglingen
END:VEVENT
BEGIN:VEVENT
UID:facca9673754071d95b90a1369a95d2c
DTSTAMP:20260420T231030Z
SUMMARY:[männliche E-Jugend Runde] CVJM Hülben  - EK Köngen 
URL:https://www.eichenkreuzliga.de/handball/game/id/16284
DTSTART:20231216T000000
DTEND:20231216T010000
LOCATION:Stadionhalle\, 71696 Möglingen
END:VEVENT
BEGIN:VEVENT
UID:7738654b41818e8d690c93a6413f287c
DTSTAMP:20260420T231030Z
SUMMARY:[männliche E-Jugend Runde] CVJM Möglingen  - CVJM Hülben 
URL:https://www.eichenkreuzliga.de/handball/game/id/16285
DTSTART:20231216T000000
DTEND:20231216T010000
LOCATION:Stadionhalle\, 71696 Möglingen
END:VEVENT
BEGIN:VEVENT
UID:31f12434c8596eb4f9a2cf4e354b0111
DTSTAMP:20260420T231030Z
SUMMARY:[männliche B-Jugend Runde] CVJM Möglingen  - EJW Münchingen 
URL:https://www.eichenkreuzliga.de/handball/game/id/17041
DTSTART:20231216T000000
DTEND:20231216T010000
LOCATION:Stadionhalle\, 71696 Möglingen
END:VEVENT
BEGIN:VEVENT
UID:7d66250468e7aff23832ef0384bd9eec
DTSTAMP:20260420T231030Z
SUMMARY:[ ]   -  
URL:https://www.eichenkreuzliga.de/handball/game/id/17342
DTSTART:20231216T131500
DTEND:20231216T141500
LOCATION:Stadionhalle\, 71696 Möglingen
END:VEVENT
END:VCALENDAR
