BEGIN:VCALENDAR
PRODID:-//eluceo/ical//2.0/EN
VERSION:2.0
CALSCALE:GREGORIAN
BEGIN:VEVENT
UID:240de7d93870033e6895f3f69dbcefb1
DTSTAMP:20260420T180045Z
SUMMARY:[männliche E-Jugend Runde] CVJM Kirchentellinsfurt  - CVJM Hagello
 ch - Kusterdingen 1
URL:https://www.eichenkreuzliga.de/handball/game/id/16214
DTSTART:20231216T130000
DTEND:20231216T140000
LOCATION:Sporthalle\, 72138 Kirchentellinsfurt
END:VEVENT
BEGIN:VEVENT
UID:88f7fcb69517d6e2580af91f2d00c0d6
DTSTAMP:20260420T180045Z
SUMMARY:[männliche E-Jugend Runde] CVJM HB Dußlingen-Gomaringen 1 - EJW M
 ünchingen 
URL:https://www.eichenkreuzliga.de/handball/game/id/16215
DTSTART:20231216T134000
DTEND:20231216T144000
LOCATION:Sporthalle\, 72138 Kirchentellinsfurt
END:VEVENT
BEGIN:VEVENT
UID:734b8fe49a4547a1d217dd65a17ebf4d
DTSTAMP:20260420T180045Z
SUMMARY:[männliche E-Jugend Runde] CVJM Kirchentellinsfurt  - EJW Münchin
 gen 
URL:https://www.eichenkreuzliga.de/handball/game/id/16216
DTSTART:20231216T155000
DTEND:20231216T165000
LOCATION:Sporthalle\, 72138 Kirchentellinsfurt
END:VEVENT
BEGIN:VEVENT
UID:b9dba9d8463f3c65b68ffc22083ceb13
DTSTAMP:20260420T180045Z
SUMMARY:[männliche E-Jugend Runde] CVJM Hagelloch - Kusterdingen 1 - EJW M
 ünchingen 
URL:https://www.eichenkreuzliga.de/handball/game/id/16217
DTSTART:20231216T143000
DTEND:20231216T153000
LOCATION:Sporthalle\, 72138 Kirchentellinsfurt
END:VEVENT
BEGIN:VEVENT
UID:ad167775ef5cf75f4b8a957ddf1041c1
DTSTAMP:20260420T180045Z
SUMMARY:[männliche E-Jugend Runde] CVJM Hagelloch - Kusterdingen 1 - CVJM 
 HB Dußlingen-Gomaringen 1
URL:https://www.eichenkreuzliga.de/handball/game/id/16283
DTSTART:20231216T151000
DTEND:20231216T161000
LOCATION:Sporthalle\, 72138 Kirchentellinsfurt
END:VEVENT
BEGIN:VEVENT
UID:f763bbd4ead781f49263f34e8f8075ce
DTSTAMP:20260420T180045Z
SUMMARY:[ ]   -  
URL:https://www.eichenkreuzliga.de/handball/game/id/16309
DTSTART:20231216T141000
DTEND:20231216T151000
LOCATION:Sporthalle\, 72138 Kirchentellinsfurt
END:VEVENT
BEGIN:VEVENT
UID:0b78b813bb870e905d04ef059d2d1dcb
DTSTAMP:20260420T180045Z
SUMMARY:[Frauen Landesliga] CVJM Kirchentellinsfurt  - CVJM  Walddorfhäsla
 ch 
URL:https://www.eichenkreuzliga.de/handball/game/id/16364
DTSTART:20231216T163000
DTEND:20231216T173000
LOCATION:Sporthalle\, 72138 Kirchentellinsfurt
END:VEVENT
BEGIN:VEVENT
UID:2543f6f71c2514cf7db92cd028f743a2
DTSTAMP:20260420T180045Z
SUMMARY:[Männer Landesliga] CVJM Kirchentellinsfurt  - CVJM HB Dußlingen-
 Gomaringen 
URL:https://www.eichenkreuzliga.de/handball/game/id/16831
DTSTART:20231216T180000
DTEND:20231216T190000
LOCATION:Sporthalle\, 72138 Kirchentellinsfurt
END:VEVENT
END:VCALENDAR
