BEGIN:VCALENDAR
PRODID:-//eluceo/ical//2.0/EN
VERSION:2.0
CALSCALE:GREGORIAN
BEGIN:VEVENT
UID:407dce4d137683e3d33fd09c2e8a50bd
DTSTAMP:20260420T230443Z
SUMMARY:[Männer LK2] CVJM Plochingen  - EJW Münchingen 
URL:https://www.eichenkreuzliga.de/handball/game/id/16877
DTSTART:20240203T180000
DTEND:20240203T190000
LOCATION:Gymnasiumsporthalle\, 73207 Plochingen
END:VEVENT
END:VCALENDAR
