BEGIN:VCALENDAR
PRODID:-//eluceo/ical//2.0/EN
VERSION:2.0
CALSCALE:GREGORIAN
BEGIN:VEVENT
UID:38e6875f901349fa5a47a96d879c7e2f
DTSTAMP:20260420T180715Z
SUMMARY:[Frauen Landesliga] CVJM Kirchentellinsfurt  - CVJM Hagelloch - Kus
 terdingen
URL:https://www.eichenkreuzliga.de/handball/game/id/16365
DTSTART:20240210T164500
DTEND:20240210T174500
LOCATION:Sporthalle\, 72138 Kirchentellinsfurt
END:VEVENT
BEGIN:VEVENT
UID:c687732b6dae9798e2ee3726810958df
DTSTAMP:20260420T180715Z
SUMMARY:[Männer Landesliga] CVJM Kirchentellinsfurt  - EK Köngen 
URL:https://www.eichenkreuzliga.de/handball/game/id/16819
DTSTART:20240210T183000
DTEND:20240210T193000
LOCATION:Sporthalle\, 72138 Kirchentellinsfurt
END:VEVENT
BEGIN:VEVENT
UID:5958d9a32812361796554decf39f0e7f
DTSTAMP:20260420T180715Z
SUMMARY:[männliche A-Jugend Runde] CVJM Kirchentellinsfurt  - CVJM Hagello
 ch SG Hagelloch/Kusterdingen
URL:https://www.eichenkreuzliga.de/handball/game/id/16980
DTSTART:20240210T150000
DTEND:20240210T160000
LOCATION:Sporthalle\, 72138 Kirchentellinsfurt
END:VEVENT
END:VCALENDAR
