BEGIN:VCALENDAR
PRODID:-//eluceo/ical//2.0/EN
VERSION:2.0
CALSCALE:GREGORIAN
BEGIN:VEVENT
UID:6a63caa50cda84275e8a0f14afbdfe47
DTSTAMP:20260421T004158Z
SUMMARY:[ ]   -  
URL:https://www.eichenkreuzliga.de/handball/game/id/16071
DTSTART:20240218T140000
DTEND:20240218T150000
LOCATION:Stadionhalle\, 71696 Möglingen
END:VEVENT
BEGIN:VEVENT
UID:98d4fe2cb5ebf73cbab5aa181d255709
DTSTAMP:20260421T004158Z
SUMMARY:[ ]   -  
URL:https://www.eichenkreuzliga.de/handball/game/id/16072
DTSTART:20240218T180000
DTEND:20240218T190000
LOCATION:Stadionhalle\, 71696 Möglingen
END:VEVENT
BEGIN:VEVENT
UID:e9e66e14fe0c155908b606c020aff63b
DTSTAMP:20260421T004158Z
SUMMARY:[ ]   -  
URL:https://www.eichenkreuzliga.de/handball/game/id/16081
DTSTART:20240218T160000
DTEND:20240218T170000
LOCATION:Stadionhalle\, 71696 Möglingen
END:VEVENT
BEGIN:VEVENT
UID:d5b5debebe0389a18ee62a78608351a0
DTSTAMP:20260421T004158Z
SUMMARY:[Frauen Landesliga] CVJM Möglingen  - EK Bernhausen 
URL:https://www.eichenkreuzliga.de/handball/game/id/16373
DTSTART:20240218T140000
DTEND:20240218T150000
LOCATION:Stadionhalle\, 71696 Möglingen
END:VEVENT
BEGIN:VEVENT
UID:b6742d91bf81d59d74a15723c480d057
DTSTAMP:20260421T004158Z
SUMMARY:[Männer LK4] CVJM Möglingen  - CVJM Fellbach 1b
URL:https://www.eichenkreuzliga.de/handball/game/id/16921
DTSTART:20240218T180000
DTEND:20240218T190000
LOCATION:Stadionhalle\, 71696 Möglingen
END:VEVENT
BEGIN:VEVENT
UID:233c4c09b8385010d98a569caff75e15
DTSTAMP:20260421T004158Z
SUMMARY:[männliche B-Jugend Runde] CVJM Möglingen  - CVJM Wildberg a.K.
URL:https://www.eichenkreuzliga.de/handball/game/id/17063
DTSTART:20240218T123000
DTEND:20240218T133000
LOCATION:Stadionhalle\, 71696 Möglingen
END:VEVENT
END:VCALENDAR
