BEGIN:VCALENDAR
PRODID:-//eluceo/ical//2.0/EN
VERSION:2.0
CALSCALE:GREGORIAN
BEGIN:VEVENT
UID:141fff87c623296347f78c8ca9006608
DTSTAMP:20260421T022029Z
SUMMARY:[männliche E-Jugend Runde] CVJM Hülben  - CVJM SG Mössingen/Bels
 en a.K.
URL:https://www.eichenkreuzliga.de/handball/game/id/16265
DTSTART:20240224T130000
DTEND:20240224T140000
LOCATION:Falkensteinhalle\, 72582 Grabenstetten
END:VEVENT
BEGIN:VEVENT
UID:31f4787c0da94d2f90aed26a522ffc8f
DTSTAMP:20260421T022029Z
SUMMARY:[männliche E-Jugend Runde] CVJM Hülben  - EK Höfingen 
URL:https://www.eichenkreuzliga.de/handball/game/id/16266
DTSTART:20240224T151000
DTEND:20240224T161000
LOCATION:Falkensteinhalle\, 72582 Grabenstetten
END:VEVENT
BEGIN:VEVENT
UID:c4b1ca5cbafd93300994348d69802899
DTSTAMP:20260421T022029Z
SUMMARY:[männliche E-Jugend Runde] CVJM Kusterdingen e.V.  - EK Höfingen 
URL:https://www.eichenkreuzliga.de/handball/game/id/16267
DTSTART:20240224T134000
DTEND:20240224T144000
LOCATION:Falkensteinhalle\, 72582 Grabenstetten
END:VEVENT
BEGIN:VEVENT
UID:ae72527bff7c40cad953ae95c1884f62
DTSTAMP:20260421T022029Z
SUMMARY:[männliche E-Jugend Runde] CVJM Kusterdingen e.V.  - CVJM SG Möss
 ingen/Belsen a.K.
URL:https://www.eichenkreuzliga.de/handball/game/id/16321
DTSTART:20240224T143000
DTEND:20240224T153000
LOCATION:Falkensteinhalle\, 72582 Grabenstetten
END:VEVENT
BEGIN:VEVENT
UID:c72587882d63a512bdda85755f19cdc1
DTSTAMP:20260421T022029Z
SUMMARY:[ ]   -  
URL:https://www.eichenkreuzliga.de/handball/game/id/16322
DTSTART:20240224T141000
DTEND:20240224T151000
LOCATION:Falkensteinhalle\, 72582 Grabenstetten
END:VEVENT
BEGIN:VEVENT
UID:9d4ff8aebde97b9c86db13fe52b48c48
DTSTAMP:20260421T022029Z
SUMMARY:[Männer LK3] CVJM Hülben  - CVJM SG Mössingen/Belsen 1b
URL:https://www.eichenkreuzliga.de/handball/game/id/16914
DTSTART:20240224T183000
DTEND:20240224T193000
LOCATION:Falkensteinhalle\, 72582 Grabenstetten
END:VEVENT
BEGIN:VEVENT
UID:548c1fa4319b1fceb381b3d63f65729b
DTSTAMP:20260421T022029Z
SUMMARY:[weibliche B-Jugend Runde] CVJM Hülben  - EJW Münchingen 
URL:https://www.eichenkreuzliga.de/handball/game/id/17129
DTSTART:20240224T160000
DTEND:20240224T170000
LOCATION:Falkensteinhalle\, 72582 Grabenstetten
END:VEVENT
END:VCALENDAR
