BEGIN:VCALENDAR
PRODID:-//eluceo/ical//2.0/EN
VERSION:2.0
CALSCALE:GREGORIAN
BEGIN:VEVENT
UID:8504213f43f436bcee9eab6287a63e10
DTSTAMP:20260421T004138Z
SUMMARY:[Frauen Landesliga] EK Bernhausen  - CVJM Möglingen 
URL:https://www.eichenkreuzliga.de/handball/game/id/16390
DTSTART:20240224T154500
DTEND:20240224T164500
LOCATION:Elisabeth-Selbert-Gymnasium Halle\, 70794 Bernhausen
END:VEVENT
BEGIN:VEVENT
UID:514b6bab12cf02d05890a8fb92aac3ac
DTSTAMP:20260421T004138Z
SUMMARY:[Männer LK2] EK Bernhausen  - EK Köngen 1b
URL:https://www.eichenkreuzliga.de/handball/game/id/16839
DTSTART:20240224T190000
DTEND:20240224T200000
LOCATION:Elisabeth-Selbert-Gymnasium Halle\, 70794 Bernhausen
END:VEVENT
BEGIN:VEVENT
UID:d72fc695b401a669c8109958606c904a
DTSTAMP:20260421T004138Z
SUMMARY:[männliche B-Jugend Runde] EK Bernhausen  - CVJM Fellbach 
URL:https://www.eichenkreuzliga.de/handball/game/id/17046
DTSTART:20240224T000000
DTEND:20240224T010000
LOCATION:Elisabeth-Selbert-Gymnasium Halle\, 70794 Bernhausen
END:VEVENT
BEGIN:VEVENT
UID:1994576748f9ae20497067ed233e4e43
DTSTAMP:20260421T004138Z
SUMMARY:[männliche C-Jugend Runde] EK Bernhausen  - CVJM HB Dußlingen-Gom
 aringen 2
URL:https://www.eichenkreuzliga.de/handball/game/id/17082
DTSTART:20240224T141500
DTEND:20240224T151500
LOCATION:Elisabeth-Selbert-Gymnasium Halle\, 70794 Bernhausen
END:VEVENT
END:VCALENDAR
