BEGIN:VCALENDAR
PRODID:-//eluceo/ical//2.0/EN
VERSION:2.0
CALSCALE:GREGORIAN
BEGIN:VEVENT
UID:a147882473460713f04195a5c4b4842b
DTSTAMP:20260421T022153Z
SUMMARY:[männliche D-Jugend Runde] CVJM HB Dußlingen-Gomaringen 1 - CVJM 
 Kusterdingen e.V. 
URL:https://www.eichenkreuzliga.de/handball/game/id/16175
DTSTART:20240302T144500
DTEND:20240302T154500
LOCATION:Gymnasiumsporthalle\, 73207 Plochingen
END:VEVENT
BEGIN:VEVENT
UID:c10d8ba1ad1c01027d8f4fbed74441bb
DTSTAMP:20260421T022153Z
SUMMARY:[männliche D-Jugend Runde] CVJM Plochingen  - CVJM HB Dußlingen-G
 omaringen 1
URL:https://www.eichenkreuzliga.de/handball/game/id/16176
DTSTART:20240302T130000
DTEND:20240302T140000
LOCATION:Gymnasiumsporthalle\, 73207 Plochingen
END:VEVENT
BEGIN:VEVENT
UID:3ba2c59e058a5ed261d6e318683a8fec
DTSTAMP:20260421T022153Z
SUMMARY:[männliche D-Jugend Runde] CVJM HB Dußlingen-Gomaringen 2 a.K. - 
 CVJM Kusterdingen e.V. 
URL:https://www.eichenkreuzliga.de/handball/game/id/16177
DTSTART:20240302T134500
DTEND:20240302T144500
LOCATION:Gymnasiumsporthalle\, 73207 Plochingen
END:VEVENT
BEGIN:VEVENT
UID:7d2944451e04b4bb4d612542207f937b
DTSTAMP:20260421T022153Z
SUMMARY:[männliche D-Jugend Runde] CVJM Plochingen  - CVJM HB Dußlingen-G
 omaringen 2 a.K.
URL:https://www.eichenkreuzliga.de/handball/game/id/16178
DTSTART:20240302T153000
DTEND:20240302T163000
LOCATION:Gymnasiumsporthalle\, 73207 Plochingen
END:VEVENT
BEGIN:VEVENT
UID:93e09a6fa5d72ebbedb9f30efd81548d
DTSTAMP:20260421T022153Z
SUMMARY:[ ]   -  
URL:https://www.eichenkreuzliga.de/handball/game/id/16301
DTSTART:20240302T143000
DTEND:20240302T153000
LOCATION:Gymnasiumsporthalle\, 73207 Plochingen
END:VEVENT
BEGIN:VEVENT
UID:235a4f8352c4baa47bfdbd71a5a33891
DTSTAMP:20260421T022153Z
SUMMARY:[Männer LK2] CVJM Plochingen  - EK Bernhausen 
URL:https://www.eichenkreuzliga.de/handball/game/id/16845
DTSTART:20240302T000000
DTEND:20240302T010000
LOCATION:Gymnasiumsporthalle\, 73207 Plochingen
END:VEVENT
END:VCALENDAR
