BEGIN:VCALENDAR
PRODID:-//eluceo/ical//2.0/EN
VERSION:2.0
CALSCALE:GREGORIAN
BEGIN:VEVENT
UID:246f54f77253812be14ec93d896f8e3d
DTSTAMP:20260424T045946Z
SUMMARY:[männliche B-Jugend Runde] CVJM Wildberg a.K. - CVJM HB Dußlingen
 -Gomaringen 
URL:https://www.eichenkreuzliga.de/handball/game/id/17065
DTSTART:20240303T150000
DTEND:20240303T160000
LOCATION:Sporthalle Wildberg\, 72218 Wildberg
END:VEVENT
BEGIN:VEVENT
UID:2ccb9f4bca113b4ae517f27d35356893
DTSTAMP:20260424T045946Z
SUMMARY:[Männer LK4] CVJM Wildberg  - CVJM Fellbach 1b
URL:https://www.eichenkreuzliga.de/handball/game/id/17248
DTSTART:20240303T000000
DTEND:20240303T010000
LOCATION:Sporthalle Wildberg\, 72218 Wildberg
END:VEVENT
END:VCALENDAR
