BEGIN:VCALENDAR
PRODID:-//eluceo/ical//2.0/EN
VERSION:2.0
CALSCALE:GREGORIAN
BEGIN:VEVENT
UID:ffe86bd108550964162e1331b5d01767
DTSTAMP:20260421T022126Z
SUMMARY:[ ]   -  
URL:https://www.eichenkreuzliga.de/handball/game/id/16100
DTSTART:20240309T180000
DTEND:20240309T190000
LOCATION:Elisabeth-Selbert-Gymnasium Halle\, 70794 Bernhausen
END:VEVENT
BEGIN:VEVENT
UID:a20501ffc615bd17d7f4bdafc1098c9b
DTSTAMP:20260421T022126Z
SUMMARY:[ ]   -  
URL:https://www.eichenkreuzliga.de/handball/game/id/16101
DTSTART:20240309T200000
DTEND:20240309T210000
LOCATION:Elisabeth-Selbert-Gymnasium Halle\, 70794 Bernhausen
END:VEVENT
BEGIN:VEVENT
UID:c82f30519c32fe188271833c79e113f3
DTSTAMP:20260421T022126Z
SUMMARY:[Frauen Landesliga] EK Bernhausen  - CVJM Kirchentellinsfurt 
URL:https://www.eichenkreuzliga.de/handball/game/id/16387
DTSTART:20240309T174500
DTEND:20240309T184500
LOCATION:Elisabeth-Selbert-Gymnasium Halle\, 70794 Bernhausen
END:VEVENT
BEGIN:VEVENT
UID:35dac30ce70d9e156a4e16918ec3a2e1
DTSTAMP:20260421T022126Z
SUMMARY:[Männer LK2] EK Bernhausen  - CVJM Plochingen 
URL:https://www.eichenkreuzliga.de/handball/game/id/17413
DTSTART:20240309T153000
DTEND:20240309T163000
LOCATION:Elisabeth-Selbert-Gymnasium Halle\, 70794 Bernhausen
END:VEVENT
END:VCALENDAR
