BEGIN:VCALENDAR
PRODID:-//eluceo/ical//2.0/EN
VERSION:2.0
CALSCALE:GREGORIAN
BEGIN:VEVENT
UID:d36e9166282961f09de717681055cb75
DTSTAMP:20260420T230408Z
SUMMARY:[ ]   -  
URL:https://www.eichenkreuzliga.de/handball/game/id/16083
DTSTART:20240323T200000
DTEND:20240323T210000
LOCATION:Stadionhalle\, 71696 Möglingen
END:VEVENT
BEGIN:VEVENT
UID:5cf9caf76958e573b8c2fa4235278539
DTSTAMP:20260420T230408Z
SUMMARY:[Frauen Landesliga] CVJM Möglingen  - CVJM HB Dußlingen-Gomaringe
 n 1
URL:https://www.eichenkreuzliga.de/handball/game/id/16389
DTSTART:20240323T180000
DTEND:20240323T190000
LOCATION:Stadionhalle\, 71696 Möglingen
END:VEVENT
BEGIN:VEVENT
UID:d8d6b0096c17b927e527043531106d42
DTSTAMP:20260420T230408Z
SUMMARY:[Männer LK4] CVJM Möglingen  - CVJM Kusterdingen e.V. 
URL:https://www.eichenkreuzliga.de/handball/game/id/16929
DTSTART:20240323T161500
DTEND:20240323T171500
LOCATION:Stadionhalle\, 71696 Möglingen
END:VEVENT
END:VCALENDAR
