BEGIN:VCALENDAR
PRODID:-//eluceo/ical//2.0/EN
VERSION:2.0
CALSCALE:GREGORIAN
BEGIN:VEVENT
UID:ccfa955e12b9928704247c9f903c0b0c
DTSTAMP:20260421T022317Z
SUMMARY:[ ]   -  
URL:https://www.eichenkreuzliga.de/handball/game/id/16107
DTSTART:20240413T160000
DTEND:20240413T170000
LOCATION:Elisabeth-Selbert-Gymnasium Halle\, 70794 Bernhausen
END:VEVENT
BEGIN:VEVENT
UID:4593f14012d978c4fa155e5387cefb96
DTSTAMP:20260421T022317Z
SUMMARY:[ ]   -  
URL:https://www.eichenkreuzliga.de/handball/game/id/16108
DTSTART:20240413T180000
DTEND:20240413T190000
LOCATION:Elisabeth-Selbert-Gymnasium Halle\, 70794 Bernhausen
END:VEVENT
BEGIN:VEVENT
UID:2664a04ca9653b58ba1d63d25fbe8fc4
DTSTAMP:20260421T022317Z
SUMMARY:[Männer LK2] EK Bernhausen  - EJW Münchingen 
URL:https://www.eichenkreuzliga.de/handball/game/id/16861
DTSTART:20240413T160000
DTEND:20240413T170000
LOCATION:Elisabeth-Selbert-Gymnasium Halle\, 70794 Bernhausen
END:VEVENT
BEGIN:VEVENT
UID:56d08b7ff2d28d0340b06bd0bce30337
DTSTAMP:20260421T022317Z
SUMMARY:[weibliche C-Jugend Runde] EK Bernhausen  - CVJM HB Dußlingen-Goma
 ringen 1
URL:https://www.eichenkreuzliga.de/handball/game/id/16953
DTSTART:20240413T130000
DTEND:20240413T140000
LOCATION:Elisabeth-Selbert-Gymnasium Halle\, 70794 Bernhausen
END:VEVENT
BEGIN:VEVENT
UID:fc3defe882d686393768c6618faf3110
DTSTAMP:20260421T022317Z
SUMMARY:[weibliche B-Jugend Runde] EK Bernhausen a.K. - CVJM Hülben 
URL:https://www.eichenkreuzliga.de/handball/game/id/17121
DTSTART:20240413T143000
DTEND:20240413T153000
LOCATION:Elisabeth-Selbert-Gymnasium Halle\, 70794 Bernhausen
END:VEVENT
END:VCALENDAR
