BEGIN:VCALENDAR
PRODID:-//eluceo/ical//2.0/EN
VERSION:2.0
CALSCALE:GREGORIAN
BEGIN:VEVENT
UID:47acbd3510f322ada6527c18c567326c
DTSTAMP:20260420T230353Z
SUMMARY:[Frauen Landesliga] CVJM Kirchentellinsfurt  - CVJM Möglingen 
URL:https://www.eichenkreuzliga.de/handball/game/id/16368
DTSTART:20240421T170000
DTEND:20240421T180000
LOCATION:Sporthalle\, 72138 Kirchentellinsfurt
END:VEVENT
BEGIN:VEVENT
UID:0ea88ff7935cea67a81c97c227070c27
DTSTAMP:20260420T230353Z
SUMMARY:[weibliche B-Jugend Finalspiele] CVJM HB Dußlingen-Gomaringen  - C
 VJM Kirchentellinsfurt 
URL:https://www.eichenkreuzliga.de/handball/game/id/17179
DTSTART:20240421T141500
DTEND:20240421T151500
LOCATION:Sporthalle\, 72138 Kirchentellinsfurt
END:VEVENT
END:VCALENDAR
