BEGIN:VCALENDAR
PRODID:-//eluceo/ical//2.0/EN
VERSION:2.0
CALSCALE:GREGORIAN
BEGIN:VEVENT
UID:c5bba6ae229ad7e776c5d301db7d95ce
DTSTAMP:20260424T031256Z
SUMMARY:[männliche A-Jugend Runde] CVJM Kirchentellinsfurt  - CVJM Enzweih
 ingen 
URL:https://www.eichenkreuzliga.de/handball/game/id/16992
DTSTART:20240114T163000
DTEND:20240114T173000
LOCATION:Sporthalle\, 72138 Kirchentellinsfurt
END:VEVENT
BEGIN:VEVENT
UID:7a06698b6c0c86ad9978a2f3f6643a3b
DTSTAMP:20260424T031256Z
SUMMARY:[weibliche B-Jugend Runde] CVJM Kirchentellinsfurt  - CVJM Mögling
 en 
URL:https://www.eichenkreuzliga.de/handball/game/id/17163
DTSTART:20240114T143000
DTEND:20240114T153000
LOCATION:Sporthalle\, 72138 Kirchentellinsfurt
END:VEVENT
END:VCALENDAR
