BEGIN:VCALENDAR
PRODID:-//eluceo/ical//2.0/EN
VERSION:2.0
CALSCALE:GREGORIAN
BEGIN:VEVENT
UID:59ebaddee13cba122b376d0c5f6565ea
DTSTAMP:20260421T004314Z
SUMMARY:[Männer LK2] CVJM Flacht  - EK Bernhausen 
URL:https://www.eichenkreuzliga.de/handball/game/id/17333
DTSTART:20240107T160000
DTEND:20240107T170000
LOCATION:Sporthalle Flacht\, 71287 Weissach
END:VEVENT
END:VCALENDAR
