BEGIN:VCALENDAR
PRODID:-//eluceo/ical//2.0/EN
VERSION:2.0
CALSCALE:GREGORIAN
BEGIN:VEVENT
UID:51e1b4ce10ffb08fbeff0fb50e8ba4ae
DTSTAMP:20260421T022153Z
SUMMARY:[Männer LK2] CVJM Flacht  - CVJM Plochingen 
URL:https://www.eichenkreuzliga.de/handball/game/id/17412
DTSTART:20240330T183000
DTEND:20240330T193000
LOCATION:Sporthalle Flacht\, 71287 Weissach
END:VEVENT
END:VCALENDAR
