BEGIN:VCALENDAR
PRODID:-//eluceo/ical//2.0/EN
VERSION:2.0
CALSCALE:GREGORIAN
BEGIN:VEVENT
UID:feb2205f7ef535a86c8f8933751fccd1
DTSTAMP:20260421T022539Z
SUMMARY:[Frauen Landesliga] CVJM HB Dußlingen-Gomaringen 1 - CVJM HB Dußl
 ingen-Gomaringen 2
URL:https://www.eichenkreuzliga.de/handball/game/id/16361
DTSTART:20240412T191500
DTEND:20240412T201500
LOCATION:Hönisch Sporthalle\, 72144 Dusslingen
END:VEVENT
BEGIN:VEVENT
UID:4dd2f7d52c56c23563f4a1358b23fc5e
DTSTAMP:20260421T022539Z
SUMMARY:[ ]   -  
URL:https://www.eichenkreuzliga.de/handball/game/id/17421
DTSTART:20240412T191400
DTEND:20240412T201400
LOCATION:Hönisch Sporthalle\, 72144 Dusslingen
END:VEVENT
BEGIN:VEVENT
UID:9f6e44c9224f11198c1ab45218c55969
DTSTAMP:20260421T022539Z
SUMMARY:[ ]   -  
URL:https://www.eichenkreuzliga.de/handball/game/id/17422
DTSTART:20240412T191600
DTEND:20240412T201600
LOCATION:Hönisch Sporthalle\, 72144 Dusslingen
END:VEVENT
END:VCALENDAR
