BEGIN:VCALENDAR
PRODID:-//eluceo/ical//2.0/EN
VERSION:2.0
CALSCALE:GREGORIAN
BEGIN:VEVENT
UID:8582e7e1b674775fbc0d3b13cd0e92aa
DTSTAMP:20260422T203925Z
SUMMARY:[Frauen Landesliga 2014/15] EK Bernhausen  - SG Grunbach Winterbach
  
URL:https://www.eichenkreuzliga.de/handball/game/id/1518
DTSTART:20141018T154500
DTEND:20141018T164500
LOCATION:Rundsporthalle\, 70794 Bernhausen
END:VEVENT
BEGIN:VEVENT
UID:11eed2ad7bf75eaaacf6a43cc983997a
DTSTAMP:20260422T203925Z
SUMMARY:[Männer LK 3 2014/15] SG Bonlanden Bernhausen 1c - EK Köngen 1c
URL:https://www.eichenkreuzliga.de/handball/game/id/2205
DTSTART:20141018T191500
DTEND:20141018T201500
LOCATION:Rundsporthalle\, 70794 Bernhausen
END:VEVENT
BEGIN:VEVENT
UID:87f46cfec45632aa227393a425ed6ab3
DTSTAMP:20260422T203925Z
SUMMARY:[weibliche C-Jugend Vorrunde 2014/15] EK Bernhausen  - CVJM Kirchen
 tellinsfurt 
URL:https://www.eichenkreuzliga.de/handball/game/id/2247
DTSTART:20141018T140000
DTEND:20141018T150000
LOCATION:Rundsporthalle\, 70794 Bernhausen
END:VEVENT
END:VCALENDAR
