BEGIN:VCALENDAR
PRODID:-//eluceo/ical//2.0/EN
VERSION:2.0
CALSCALE:GREGORIAN
BEGIN:VEVENT
UID:2cff940bafb8c599e9db4446cbf50231
DTSTAMP:20260422T125834Z
SUMMARY:[weibliche E-Jugend Presidents Cup] CVJM HB Dußlingen-Gomaringen 2
  - EK Köngen 
URL:https://www.eichenkreuzliga.de/handball/game/id/17805
DTSTART:20250405T103000
DTEND:20250405T113000
LOCATION:Hönisch Sporthalle\, 72144 Dusslingen
END:VEVENT
BEGIN:VEVENT
UID:a008596677d095f4455e52597a55a50f
DTSTAMP:20260422T125834Z
SUMMARY:[weibliche E-Jugend Presidents Cup] EK Köngen  - CVJM Plochingen 
URL:https://www.eichenkreuzliga.de/handball/game/id/17806
DTSTART:20250405T111000
DTEND:20250405T121000
LOCATION:Hönisch Sporthalle\, 72144 Dusslingen
END:VEVENT
BEGIN:VEVENT
UID:80735a764ec42b999cd286d88a0f291f
DTSTAMP:20260422T125834Z
SUMMARY:[weibliche E-Jugend Presidents Cup] CVJM HB Dußlingen-Gomaringen 2
  - CVJM Plochingen 
URL:https://www.eichenkreuzliga.de/handball/game/id/17808
DTSTART:20250405T120000
DTEND:20250405T130000
LOCATION:Hönisch Sporthalle\, 72144 Dusslingen
END:VEVENT
BEGIN:VEVENT
UID:9755c166aafa23c721e12331fa6a7359
DTSTAMP:20260422T125834Z
SUMMARY:[Frauen Landesliga] CVJM HB Dußlingen-Gomaringen 2 - CVJM HB Dußl
 ingen-Gomaringen 1
URL:https://www.eichenkreuzliga.de/handball/game/id/17939
DTSTART:20250405T170000
DTEND:20250405T180000
LOCATION:Hönisch Sporthalle\, 72144 Dusslingen
END:VEVENT
BEGIN:VEVENT
UID:fe7eda116eb398a0e64a9c3ab742fe1f
DTSTAMP:20260422T125834Z
SUMMARY:[Männer LK2] CVJM HB Dußlingen-Gomaringen 2 - CVJM Kirchentellins
 furt 
URL:https://www.eichenkreuzliga.de/handball/game/id/18171
DTSTART:20250405T150000
DTEND:20250405T160000
LOCATION:Hönisch Sporthalle\, 72144 Dusslingen
END:VEVENT
BEGIN:VEVENT
UID:5beac59ec72e02cbd340a2e68ea75352
DTSTAMP:20260422T125834Z
SUMMARY:[Männer Landesliga] CVJM HB Dußlingen-Gomaringen  - CVJM SG Möss
 ingen/Belsen 
URL:https://www.eichenkreuzliga.de/handball/game/id/18201
DTSTART:20250405T190000
DTEND:20250405T200000
LOCATION:Hönisch Sporthalle\, 72144 Dusslingen
END:VEVENT
BEGIN:VEVENT
UID:e702680656264707455fb04a878daa55
DTSTAMP:20260422T125834Z
SUMMARY:[männliche A-Jugend Runde] CVJM HB Dußlingen-Gomaringen  - EK Kö
 ngen 
URL:https://www.eichenkreuzliga.de/handball/game/id/18484
DTSTART:20250405T130000
DTEND:20250405T140000
LOCATION:Hönisch Sporthalle\, 72144 Dusslingen
END:VEVENT
BEGIN:VEVENT
UID:fd46b1cb3517d5873cbdfaa68128c4e7
DTSTAMP:20260422T125834Z
SUMMARY:[ ]   -  
URL:https://www.eichenkreuzliga.de/handball/game/id/18756
DTSTART:20250405T114000
DTEND:20250405T124000
LOCATION:Hönisch Sporthalle\, 72144 Dusslingen
END:VEVENT
END:VCALENDAR
