BEGIN:VCALENDAR
PRODID:-//eluceo/ical//2.0/EN
VERSION:2.0
CALSCALE:GREGORIAN
BEGIN:VEVENT
UID:7bb16b3a59501d5f5108694f1812f955
DTSTAMP:20260422T191619Z
SUMMARY:[Männer Landesliga 2014/15] EK Bernhausen  - EK Höfingen 
URL:https://www.eichenkreuzliga.de/handball/game/id/1733
DTSTART:20141108T200000
DTEND:20141108T210000
LOCATION:Elisabeth-Selbert-Gymnasium Halle\, 70794 Bernhausen
END:VEVENT
BEGIN:VEVENT
UID:be13cb5ff1bcbc0093c586d7a53eae95
DTSTAMP:20260422T191619Z
SUMMARY:[Männer LK 2 2014/15] EK Bernhausen / Bonlanden - SG Grunbach Wint
 erbach 
URL:https://www.eichenkreuzliga.de/handball/game/id/2007
DTSTART:20141108T183000
DTEND:20141108T193000
LOCATION:Elisabeth-Selbert-Gymnasium Halle\, 70794 Bernhausen
END:VEVENT
BEGIN:VEVENT
UID:30ddcd23d3140f2526b812bd5a281928
DTSTAMP:20260422T191619Z
SUMMARY:[weibliche A-Jugend Vorrunde 2014/15] EK Bernhausen  - CVJM HB Duß
 lingen-Gomaringen 
URL:https://www.eichenkreuzliga.de/handball/game/id/2048
DTSTART:20141108T170000
DTEND:20141108T180000
LOCATION:Elisabeth-Selbert-Gymnasium Halle\, 70794 Bernhausen
END:VEVENT
BEGIN:VEVENT
UID:2bc2ffb138eaf692ed3caeecfb7f0b41
DTSTAMP:20260422T191619Z
SUMMARY:[männliche A-Jugend LK 1 2014/15] EK Bernhausen  - CVJM Enzweihing
 en 
URL:https://www.eichenkreuzliga.de/handball/game/id/2063
DTSTART:20141108T153000
DTEND:20141108T163000
LOCATION:Elisabeth-Selbert-Gymnasium Halle\, 70794 Bernhausen
END:VEVENT
BEGIN:VEVENT
UID:45f3d7b7b04fdc51999d50d1443afb18
DTSTAMP:20260422T191619Z
SUMMARY:[männliche C-Jugend LK 1 2014/15] EK Bernhausen  - EK Köngen 
URL:https://www.eichenkreuzliga.de/handball/game/id/2149
DTSTART:20141108T140000
DTEND:20141108T150000
LOCATION:Elisabeth-Selbert-Gymnasium Halle\, 70794 Bernhausen
END:VEVENT
BEGIN:VEVENT
UID:3a5c905e9285848964aaaafd9e2dd22f
DTSTAMP:20260422T191619Z
SUMMARY:[weibliche C-Jugend Vorrunde 2014/15] EK Bernhausen  - EK Höfingen
  
URL:https://www.eichenkreuzliga.de/handball/game/id/2244
DTSTART:20141108T123000
DTEND:20141108T133000
LOCATION:Elisabeth-Selbert-Gymnasium Halle\, 70794 Bernhausen
END:VEVENT
END:VCALENDAR
