BEGIN:VCALENDAR
PRODID:-//eluceo/ical//2.0/EN
VERSION:2.0
CALSCALE:GREGORIAN
BEGIN:VEVENT
UID:7d20d640bed1321d4d6107f245404791
DTSTAMP:20260422T221240Z
SUMMARY:[Männer LK 4 2014/15] CVJM Kusterdingen e.V.  - CVJM Möglingen 1c
URL:https://www.eichenkreuzliga.de/handball/game/id/2341
DTSTART:20141116T160000
DTEND:20141116T170000
LOCATION:Härtensporthalle\, 72127 Kusterdingen
END:VEVENT
END:VCALENDAR
